BEGIN:VCALENDAR
VERSION:2.0
PRODID:-//ChamberMaster//Event Calendar 2.0//EN
METHOD:PUBLISH
X-PUBLISHED-TTL:P3D
REFRESH-INTERVAL:P3D
CALSCALE:GREGORIAN
BEGIN:VEVENT
DTSTART:20221016T170000Z
DTEND:20221016T200000Z
X-MICROSOFT-CDO-ALLDAYEVENT:FALSE
SUMMARY:World Softgolf Championship
DESCRIPTION:A World Softgolf Championship? That's right on October 16\, 2022 the BEST Softgolfers will be competing for the Title of Softgolf World Champion.  The tournament held at Softgolf's course at Tanglewood Park will have a shotgun start at 1:00 pm .  There's only one Softgolf in the World and it's located in beautiful Clemmons\, NC.  There's no other golf like Softgolf and there's no other place where you can play it so join the few\, the adventurous and the fun to become a World Softgolf Champ. \n\nThe age and division brackets are as follows:  \n\n7-11 | 12-17 | 18-64 | 65 and Older |
X-ALT-DESC;FMTTYPE=text/html:<p><span style="background-color:transparent\; color:rgb(68\, 68\, 68)\; font-family:cambria\,serif\; font-size:12pt">&nbsp\;A World Softgolf&trade\;Championship? That&#39\;s right on October 16\, 2022 the BEST Softgolfers will be competing for the Title of Softgolf World Champion.&nbsp\; The tournament held at Softgolf&rsquo\;s course at Tanglewood Park will have a shotgun start at 1:00 pm .&nbsp\; There&rsquo\;s only one Softgolf in the World and it&rsquo\;s located in beautiful Clemmons\, NC.&nbsp\; There&rsquo\;s no other golf like Softgolf and there&rsquo\;s no other place where you can play it so join the few\, the adventurous and the fun to become a World Softgolf Champ.&nbsp\;</span></p>\n\n<p><span style="background-color:transparent\; color:rgb(68\, 68\, 68)\; font-family:cambria\,serif\; font-size:12pt">The age and division brackets are as follows:&nbsp\;&nbsp\;</span></p>\n\n<p><span style="background-color:transparent\; color:rgb(68\, 68\, 68)\; font-family:cambria\,serif\; font-size:12pt">7-11 | 12-17 | 18-64 | 65 and Older |&nbsp\;</span></p>\n\n<div>&nbsp\;</div>\n
LOCATION:Softgolf at Tanglewood Park\, Clemmons NC
UID:e.2513.6063
SEQUENCE:3
DTSTAMP:20260424T235935Z
URL:https://members.lewisville-clemmons.com/events/details/world-softgolf-championship-10-16-2022-6063
END:VEVENT

END:VCALENDAR
