BEGIN:VCALENDAR
VERSION:2.0
PRODID:-//ChamberMaster//Event Calendar 2.0//EN
METHOD:PUBLISH
X-PUBLISHED-TTL:P3D
REFRESH-INTERVAL:P3D
CALSCALE:GREGORIAN
BEGIN:VEVENT
DTSTART:20220929T113000Z
DTEND:20220929T133000Z
X-MICROSOFT-CDO-ALLDAYEVENT:FALSE
SUMMARY:What the Heck Is Going On with the Economy?
DESCRIPTION:The Lewisville-Clemmons Chamber of Commerce shares the common question that is facing everyone:  What the heck is going on with our economy??  We are excited to welcome Dr. Christopher Jeffries\, local professor and economist who will share some great insights about where we've been\, where we are\, and where we're going!  Please join us for a breakfast summit to discuss the economy and learn more about what the heck is going on!\n\n\n\nEmcee:  Kristin Johnson\, VP of Economic Development\, Lewisville-Clemmons Chamber of Commerce\n\n\n\nPresenter:  Dr. Christopher Jeffries\n\nDr. Christopher Jeffries has previously served as Provost/Vice President for Academic Affairs\, Executive Vice President\, Vice President for Academic Affairs\, Associate Vice President for Academic Affairs\, and Chair\, Department of Business Administration. Dr. Jeffries received his Ph.D. in Economics from Florida State University\, M.A. in Economics from Ohio University\, and B.S. in Economics from North Carolina Central University. He is an award-winning university professor and has taught at several colleges and universities in the Southeast. Dr. Jeffries is a former recipient of a Fulbright Lecturer Award to the People's Republic of China. In addition to two visits to China\, Dr. Jeffries has professionally related travel to India\, Japan\, South Korea\, South Africa\, and Brazil. Dr. Jeffries has more than 28 economic articles in books\, journals\, and proceedings. He is also the author of several Christian books.\n\n\n\n\n\nAbout the Presentation:\nThe purpose of the talk is to provide an overview of current economic conditions in the U.S. The characteristics of a recession will be discussed and a determination made of whether the economy is currently experiencing one. An overview of recessions over the the last 50 years will be highlighted. Finally\, some possible scenarios will be provided for the economy as we move to 2023 and beyond.\n\n\nSponsored by Triad Business Bank
X-ALT-DESC;FMTTYPE=text/html:<span style="font-size:14px\;"><span style="font-family:arial\;">The Lewisville-Clemmons Chamber of Commerce shares the common question that is facing everyone:&nbsp\; What the heck is going on with our economy??&nbsp\; We are excited to welcome Dr. Christopher Jeffries\, local professor and economist who will share some great insights about where we&#39\;ve been\, where we are\, and where we&#39\;re going!&nbsp\; Please join us for a breakfast summit to discuss the economy and learn more about what the heck is going on!<br />\n<br />\n<strong>Emcee:&nbsp\; Kristin Johnson\, </strong>VP of Economic Development\, Lewisville-Clemmons Chamber of Commerce<br />\n<br />\n<strong>Presenter:&nbsp\; Dr. Christopher Jeffries</strong><br />\n<span style="caret-color: rgb(38\, 40\, 42)\; color: rgb(38\, 40\, 42)\; text-indent: 48px\; text-size-adjust: auto\;">Dr. Christopher Jeffries has previously served as Provost/Vice President for Academic Affairs\, Executive Vice President\, Vice President for Academic Affairs\, Associate Vice President for Academic Affairs\, and Chair\, Department of Business Administration. Dr. Jeffries received his Ph.D. in Economics from Florida State University\, M.A. in Economics from Ohio University\, and B.S. in Economics from North Carolina Central University. He is an award-winning university professor and has taught at several colleges and universities in the Southeast. Dr. Jeffries is a former recipient of a Fulbright Lecturer Award to the People&rsquo\;s Republic of China. In addition to two visits to China\, Dr. Jeffries has professionally related travel to India\, Japan\, South Korea\, South Africa\, and Brazil. Dr. Jeffries has more than 28 economic articles in books\, journals\, and proceedings. He is also the author of several Christian books.</span><br />\n<br />\n<br />\n<strong>About the Presentation:</strong></span></span>\n<div style="color:rgb(0\, 0\, 0)\;font-family:Avenir-Book\;font-size:12px\;text-size-adjust:auto\;"><span style="font-size:14px\;"><span style="font-family:arial\;"><span style="color:#26282a\;">The purpose of the talk is to provide an overview of current economic conditions in the U.S. The characteristics of a recession will be discussed and a determination made of whether the economy is currently experiencing one. An overview of recessions over the the last 50 years</span>&nbsp\;<span style="color:#26282a\;">will be highlighted. Finally\, some possible scenarios will be provided for the economy as we move to 2023 and beyond.</span></span></span>\n<div><br />\n<a href="https://triadbusinessbank.com/">Sponsored by Triad Business Bank</a></div>\n</div>\n
LOCATION:Bermuda Run Country Club 324 Bermuda Run Dr Bermuda Run\, NC 27006
UID:e.2513.6054
SEQUENCE:3
DTSTAMP:20260423T011230Z
URL:https://members.lewisville-clemmons.com/events/details/what-the-heck-is-going-on-with-the-economy-6054
END:VEVENT

END:VCALENDAR
