BEGIN:VCALENDAR
VERSION:2.0
PRODID:-//ChamberMaster//Event Calendar 2.0//EN
METHOD:PUBLISH
X-PUBLISHED-TTL:P3D
REFRESH-INTERVAL:P3D
CALSCALE:GREGORIAN
BEGIN:VEVENT
DTSTART:20220915T140000Z
DTEND:20220915T150000Z
X-MICROSOFT-CDO-ALLDAYEVENT:FALSE
SUMMARY:Well Balanced Nutrition Ribbon Cutting
DESCRIPTION:Join us on Thursday\, September 15th at 10 AM for a ribbon cutting to celebrate Well Balanced Nutrition! Everyone is welcome! Enjoy refreshments and networking.\n\n\n\nCongratulate Kristen! Click here to send her an email.
X-ALT-DESC;FMTTYPE=text/html:<div style="color: rgb(64\, 63\, 66)\; font-family: Arial\, Verdana\, Helvetica\, sans-serif\; font-size: 12px\; white-space: pre-wrap\;"><span style="font-size:14px\;"><span style="font-family:tahoma\;">Join us on <strong>Thursday<span style="font-weight: bold\;">\, September 15th</span> at 10 AM</strong> for a ribbon cutting to celebrate <a href="https://wellbalancednutrition.com/"><strong>Well Balanced Nutrition</strong></a>! <span style="color: rgb(64\, 63\, 66)\; white-space: pre-wrap\; background-color: rgb(255\, 255\, 255)\;">Everyone is welcome! </span>Enjoy refreshments and networking.<br />\n<br />\nCongratulate Kristen! Click <strong><a href="mailto:kristen@wellbalancednutrition.com?subject=Congratulations!">here</a></strong> to send her an email<strong>.</strong></span></span><br />\n&nbsp\;</div>\n
LOCATION:Well Balanced Nutrition 3540 Clemmons Road\, Suite 100 Clemmons\, NC 27012 : (336) 298-1591
UID:e.2513.6047
SEQUENCE:3
DTSTAMP:20260423T011230Z
URL:https://members.lewisville-clemmons.com/events/details/well-balanced-nutrition-ribbon-cutting-6047
END:VEVENT

END:VCALENDAR
