BEGIN:VCALENDAR
VERSION:2.0
PRODID:-//ChamberMaster//Event Calendar 2.0//EN
METHOD:PUBLISH
X-PUBLISHED-TTL:P3D
REFRESH-INTERVAL:P3D
CALSCALE:GREGORIAN
BEGIN:VEVENT
DTSTART:20220820T140000Z
DTEND:20220820T160000Z
X-MICROSOFT-CDO-ALLDAYEVENT:FALSE
SUMMARY:Water Balloon Barrage at Softgolf
DESCRIPTION:Remember how much fun water balloon fights were as a kid? It was a great way to cool down on a hot summer day. We're bringing it back at Softgolf\, where everyone's a kid. Join us Saturday\, July 30 from 10 am - Noon for our 1st Water Balloon Barrage.  Bring your kids\, grab your bestie and be ready to play. \n\n\n\nWater balloon buckets will be stationed around the course. When you hear the siren drop your clubs\, grab some balloons and let the barrage begin. When the siren sounds again\, pick up your clubs and continue play. Kind of like musical chairs Softgolf style.  \n\nCost is $13 per person & includes Softgolf\, a FREE frozen fruit bar and water balloon barrage. \n\nResrvations required at: https://softgolfteetime.as.me/
X-ALT-DESC;FMTTYPE=text/html:Remember how much fun water balloon fights were as a kid? It was a great way to cool down on a hot summer day. We&#39\;re bringing it back at Softgolf\, where everyone&#39\;s a kid. Join us Saturday\, July 30 from 10 am - Noon for our 1st Water Balloon Barrage.&nbsp\; Bring your kids\, grab your bestie and be ready to play.&nbsp\;<br />\n<br />\nWater balloon buckets will be stationed around the course. When you hear the siren drop your clubs\, grab some balloons and let the barrage begin. When the siren sounds again\, pick up your clubs and continue play. Kind of like musical chairs Softgolf style.&nbsp\;&nbsp\;<br />\nCost is $13 per person &amp\; includes Softgolf\, a FREE frozen fruit bar and water balloon barrage.&nbsp\;<br />\nResrvations required at:&nbsp\;<a href="https://softgolfteetime.as.me/"><span style="color:rgb(49\, 49\, 49)\; font-family:clarkson\,helvetica\,sans-serif\; font-size:14px">https://softgolfteetime.as.me/</span></a>
LOCATION:Softgolf at Tanglewood Park\, next to the dog park
UID:e.2513.5919
SEQUENCE:3
DTSTAMP:20260423T023047Z
URL:https://members.lewisville-clemmons.com/events/details/water-balloon-barrage-at-softgolf-5919
END:VEVENT

END:VCALENDAR
