BEGIN:VCALENDAR
VERSION:2.0
PRODID:-//ChamberMaster//Event Calendar 2.0//EN
METHOD:PUBLISH
X-PUBLISHED-TTL:P3D
REFRESH-INTERVAL:P3D
CALSCALE:GREGORIAN
BEGIN:VEVENT
DTSTART;VALUE=DATE:20230624
DTEND;VALUE=DATE:20230625
TRANSP:TRANSPARENT
X-MICROSOFT-CDO-ALLDAYEVENT:TRUE
SUMMARY:Triathlon Prep Clinic with Fleet Feet (RAMBLIN' ROSE CLINIC)
DESCRIPTION:THE FOLLOWING IS NOT A CHAMBER EVENT\; PLEASE CONTACT THE EVENT ORGANIZER WITH ANY QUESTIONS.\n\n\nFleet Feet is helping Chamber members through the Summer of Fitness Challenge with three ways to be active:  Big Run\, Smiley Triathlon\, and Ramblin' Rose.\n\n \nTriathlon season is here!  We are excited to offer clinics this spring/summer to help you get ready for 2 awesome\, LOCAL\, upcoming races.  THIS INFORMATION IS FOR THE RAMBLIN' ROSE CLINIC.\n\nThese clinics will help get the first-time triathlete\, or the triathlete that needs a refresher ready for race day.\n\n\n\nFor Ramblin' Rose Triathlon training there are nine clinic dates:\n\n\n	Saturday\, June 24th: Swim/Run\n	Tuesday June 27th: Ride\n	Saturday\, July 8th: Swim/Run\n	Tuesday July 11th: Ride\n	Saturday July 15th: Swim/Run\n	Tuesday July 18th: Ride\n	Tuesday August 1st: Ride\n	Saturday August 5th: Swim/Run\n	Tuesday August 8th: Ride\n\n\n \n\nSwims will be held at 8AM at the Clemmons West pool and will be followed by a short run through the Clemmons West neighborhood.  Rides will be held at 6PM at CG Hill park and will be headed by up the great team from Ken's Bike Shop.  Our long-time triathlon coach\, Mike Huddleston\, will oversee the training clinics with the help of Mckaylin Darsey (seasoned triathlete that is new to our team but has coached elsewhere before).\n\n\n\nIf you need any bike assistance\, be sure to reach out to the team at Ken's Bike Shop.  Clemmons West is offering a separate lap swimming program for an additional $40.  Email andrew@riveroakschurch.org if you are interested in the lap swimming option. \n\n\n\nRegistration fee & links: $90 for Ramblin' Rose. \n\nRace entry fees are not included in the triathlon prep clinic fee.  \n\n\n\n\n\nCHAMBER MEMBERS!!!  TAKE $10 OFF PREP CLINIC WITH PROMO CODE CHAMBERFITNESS.
X-ALT-DESC;FMTTYPE=text/html:<p class="p1" style="margin: 0px\; font-variant-numeric: normal\; font-variant-east-asian: normal\; font-variant-alternates: normal\; font-kerning: auto\; font-optical-sizing: auto\; font-feature-settings: normal\; font-variation-settings: normal\; font-stretch: normal\; line-height: normal\; font-family: &quot\;Helvetica Neue&quot\;\; color: rgb(0\, 0\, 0)\;"><span style="font-size:14px\;"><span style="font-family:tahoma\;"><span style="color:#FF0000\;"><b>THE FOLLOWING IS NOT A CHAMBER EVENT\; PLEASE CONTACT THE EVENT ORGANIZER WITH ANY QUESTIONS.</b></span></span></span></p>\n<br />\n<strong>Fleet Feet is helping Chamber members through the Summer of Fitness Challenge with three ways to be active:&nbsp\; <a href="https://members.lewisville-clemmons.com/events/details/big-run-with-fleet-feet-6348">Big Run</a>\, <a href="https://members.lewisville-clemmons.com/events/details/triathlon-prep-clinic-with-fleet-feet-smiley-clinic-6349">Smiley Triathlon</a>\, and Ramblin&#39\; Rose.</strong><br />\n&nbsp\;\n<p style="margin: 0px 0px 20px\; padding: 0px\; border: 0px\; outline: 0px\; font-size: 14px\; vertical-align: baseline\; background-color: transparent\; caret-color: rgb(85\, 85\, 85)\; color: rgb(85\, 85\, 85)\; font-family: arial\, sans-serif\; text-size-adjust: auto\;"><span style="font-size:14px\;"><span style="font-family:tahoma\;">Triathlon season is here! &nbsp\;We are excited to offer clinics this spring/summer to help you get ready for 2 awesome\, LOCAL\, upcoming races.&nbsp\; THIS INFORMATION IS FOR THE RAMBLIN&#39\; ROSE&nbsp\;CLINIC.<br />\nThese clinics will help get the first-time triathlete\, or the triathlete that needs a refresher ready for race day.<br />\n<br />\nFor Ramblin&#39\; Rose Triathlon training there are nine clinic dates:</span></span></p>\n\n<ul style="margin: 0px 0px 20px 20px\; padding-right: 0px\; padding-left: 0px\; border: 0px\; outline: 0px\; font-size: 14px\; vertical-align: baseline\; background-color: transparent\; list-style-position: inside\; caret-color: rgb(85\, 85\, 85)\; color: rgb(85\, 85\, 85)\; font-family: arial\, sans-serif\; text-size-adjust: auto\;">\n	<li style="margin: 0px\; padding: 0px\; border: 0px\; outline: 0px\; vertical-align: baseline\; background-color: transparent\;"><span style="font-size:14px\;"><span style="font-family:tahoma\;">Saturday\, June 24<sup style="margin: 0px\; padding: 0px\; border: 0px\; outline: 0px\; font-size: 11.2px\; background-color: transparent\; line-height: 0\;">th</sup>: Swim/Run</span></span></li>\n	<li style="margin: 0px\; padding: 0px\; border: 0px\; outline: 0px\; vertical-align: baseline\; background-color: transparent\;"><span style="font-size:14px\;"><span style="font-family:tahoma\;">Tuesday June 27<sup style="margin: 0px\; padding: 0px\; border: 0px\; outline: 0px\; font-size: 11.2px\; background-color: transparent\; line-height: 0\;">th</sup>: Ride</span></span></li>\n	<li style="margin: 0px\; padding: 0px\; border: 0px\; outline: 0px\; vertical-align: baseline\; background-color: transparent\;"><span style="font-size:14px\;"><span style="font-family:tahoma\;">Saturday\, July 8<sup style="margin: 0px\; padding: 0px\; border: 0px\; outline: 0px\; font-size: 11.2px\; background-color: transparent\; line-height: 0\;">th</sup>: Swim/Run</span></span></li>\n	<li style="margin: 0px\; padding: 0px\; border: 0px\; outline: 0px\; vertical-align: baseline\; background-color: transparent\;"><span style="font-size:14px\;"><span style="font-family:tahoma\;">Tuesday July 11<sup style="margin: 0px\; padding: 0px\; border: 0px\; outline: 0px\; font-size: 11.2px\; background-color: transparent\; line-height: 0\;">th</sup>: Ride</span></span></li>\n	<li style="margin: 0px\; padding: 0px\; border: 0px\; outline: 0px\; vertical-align: baseline\; background-color: transparent\;"><span style="font-size:14px\;"><span style="font-family:tahoma\;">Saturday July 15<sup style="margin: 0px\; padding: 0px\; border: 0px\; outline: 0px\; font-size: 11.2px\; background-color: transparent\; line-height: 0\;">th</sup>: Swim/Run</span></span></li>\n	<li style="margin: 0px\; padding: 0px\; border: 0px\; outline: 0px\; vertical-align: baseline\; background-color: transparent\;"><span style="font-size:14px\;"><span style="font-family:tahoma\;">Tuesday July 18<sup style="margin: 0px\; padding: 0px\; border: 0px\; outline: 0px\; font-size: 11.2px\; background-color: transparent\; line-height: 0\;">th</sup>: Ride</span></span></li>\n	<li style="margin: 0px\; padding: 0px\; border: 0px\; outline: 0px\; vertical-align: baseline\; background: transparent\;">Tuesday August 1<sup style="margin: 0px\; padding: 0px\; border: 0px\; outline: 0px\; font-size: 11.2px\; background: transparent\; line-height: 0\;">st</sup>: Ride</li>\n	<li style="margin: 0px\; padding: 0px\; border: 0px\; outline: 0px\; vertical-align: baseline\; background: transparent\;">Saturday August 5<sup style="margin: 0px\; padding: 0px\; border: 0px\; outline: 0px\; font-size: 11.2px\; background: transparent\; line-height: 0\;">th</sup>: Swim/Run</li>\n	<li style="margin: 0px\; padding: 0px\; border: 0px\; outline: 0px\; vertical-align: baseline\; background: transparent\;">Tuesday August 8<sup style="margin: 0px\; padding: 0px\; border: 0px\; outline: 0px\; font-size: 11.2px\; background: transparent\; line-height: 0\;">th</sup>: Ride</li>\n</ul>\n\n<div style="margin: 0px\; padding: 0px\; border: 0px\; outline: 0px\; vertical-align: baseline\; background-color: transparent\;">&nbsp\;</div>\n\n<div style="margin: 0px\; padding: 0px\; border: 0px\; outline: 0px\; vertical-align: baseline\; background-color: transparent\;"><span style="font-size:14px\;"><span style="font-family:tahoma\;">Swims will be held at 8AM at the Clemmons West pool and will be followed by a short run through the Clemmons West neighborhood. &nbsp\;Rides will be held at 6PM at CG Hill park and will be headed by up the great team from Ken&#39\;s Bike Shop. &nbsp\;Our long-time triathlon coach\, Mike Huddleston\, will oversee the training clinics with the help of&nbsp\;Mckaylin Darsey (seasoned triathlete that is new to our team but has coached elsewhere before).<br />\n<br />\nIf you need any bike assistance\, be sure to reach out to the team at Ken&#39\;s Bike Shop. &nbsp\;Clemmons West is offering a separate lap swimming program for an additional $40. &nbsp\;Email andrew@riveroakschurch.org if you are interested in the lap swimming option.&nbsp\;<br />\n<br />\n<span style="margin: 0px\; padding: 0px\; border: 0px\; outline: 0px\; vertical-align: baseline\; background-color: rgb(0\, 204\, 255)\;"><strong style="margin: 0px\; padding: 0px\; border: 0px\; outline: 0px\; vertical-align: baseline\; background-color: transparent\;">Registration fee &amp\; links:</strong></span> <a href="https://fleetfeetws.captyn.com/find/clh555wgb00krol0w5ll9hh64" style="margin: 0px\; padding: 0px\; border: 0px\; vertical-align: baseline\; background-color: transparent\; color: rgb(0\, 0\, 0)\;" target="_blank">$<u>90 for R</u></a><u>amblin&#39\; Rose.</u>&nbsp\;<br />\nRace entry fees are not included in the triathlon prep clinic fee.&nbsp\;&nbsp\;</span></span></div>\n\n<p class="p1" style="margin: 0px\; font-variant-numeric: normal\; font-variant-east-asian: normal\; font-variant-alternates: normal\; font-kerning: auto\; font-optical-sizing: auto\; font-feature-settings: normal\; font-variation-settings: normal\; font-stretch: normal\; line-height: normal\; font-family: &quot\;Helvetica Neue&quot\;\; color: rgb(0\, 0\, 0)\;"><br />\n<br />\n<span style="font-size:14px\;"><span style="font-family:tahoma\;">CHAMBER MEMBERS!!!&nbsp\; TAKE $10 OFF PREP CLINIC WITH PROMO CODE&nbsp\;<span style="color:#0000FF\;"><span style="caret-color: rgb(0\, 0\, 0)\; text-size-adjust: auto\;">CHAMBERFITNESS</span></span><span style="caret-color: rgb(0\, 0\, 0)\; color: rgb(0\, 0\, 0)\; text-size-adjust: auto\;">.</span></span></span></p>\n
LOCATION:See registration info.
UID:e.2513.6350
SEQUENCE:3
DTSTAMP:20260425T120421Z
URL:https://members.lewisville-clemmons.com/events/details/triathlon-prep-clinic-with-fleet-feet-ramblin-rose-clinic-6350
END:VEVENT

END:VCALENDAR
