BEGIN:VCALENDAR
VERSION:2.0
PRODID:-//ChamberMaster//Event Calendar 2.0//EN
METHOD:PUBLISH
X-PUBLISHED-TTL:P3D
REFRESH-INTERVAL:P3D
CALSCALE:GREGORIAN
BEGIN:VEVENT
DTSTART:20220607T130000Z
DTEND:20220607T150000Z
X-MICROSOFT-CDO-ALLDAYEVENT:FALSE
SUMMARY:The Poverty Simulation Experience
DESCRIPTION:FREE EVENT\, but reservations required!  RSVP BY MAY 20th!!!\n\nEvery day in our city\, there are families trying to decide which bills to pay when there is not enough money to cover them all. Crisis Control Ministry is on a mission to help us all understand more about our neighbors who make gut-wrenching choices between a warm home and a warm meal and how to navigate the myriad of government and social services that provide help. For more details\, see their website: https://www.crisiscontrol.org/.../poverty-simulations-and...\n\nTo that end\, you are invited to join Leadership Lewisville-Clemmons for a Poverty Simulation on June 7 from 9-11 AM at the Mary Alice Warren Community Center in Lewisville. There is NO COST to participate. To learn more or sign up\, contact Lexi Scoggin at: 330-881-0969 or ascoggin2@gmail.com. RSVP by May 20.\n\nPS - We need at least 40 individuals to make this a successful simulation so if you are at all interested\, we would appreciate your participation!
X-ALT-DESC;FMTTYPE=text/html:<p style="margin: 1.5em 0px\; padding: 0px\; border: 0px\; outline: 0px\; font-size: 14.4014px\; vertical-align: baseline\; color: rgb(34\, 34\, 34)\; font-family: 'Helvetica Neue'\, Helvetica\, Arial\, sans-serif\; line-height: 19.586px\; background: rgb(255\, 255\, 255)\;"><strong>FREE EVENT\, but reservations required!&nbsp\; RSVP BY MAY 20th!!!</strong></p>\n\n<div class="gmail-bi6gxh9e" style="text-size-adjust: auto\; margin-bottom: 8px\; font-family: system-ui\, -apple-system\, system-ui\, &quot\;.SFNSText-Regular&quot\;\, sans-serif\; color: rgb(5\, 5\, 5)\; font-size: 15px\;"><span class="gmail-d2edcug0 gmail-hpfvmrgz gmail-qv66sw1b gmail-c1et5uql gmail-oi732d6d gmail-ik7dh3pa gmail-ht8s03o8 gmail-jq4qci2q gmail-a3bd9o3v gmail-b1v8xokw gmail-oo9gr5id" style="line-height: 1.3333\; max-width: 100%\; min-width: 0px\; font-family: inherit\; font-size: 0.9375rem\; word-break: break-word\;">Every day in our city\, there are families trying to decide which bills to pay when there is not enough money to cover them all. Crisis Control Ministry is on a mission to help us all understand more about our neighbors who make gut-wrenching choices between a warm home and a warm meal and how to navigate the myriad of government and social services that provide help. For more details\, see their website:&nbsp\;<span style="font-family: inherit\;"><a class="gmail-oajrlxb2 gmail-g5ia77u1 gmail-qu0x051f esr5mh6w e9989ue4 gmail-r7d6kgcz gmail-rq0escxv gmail-nhd2j8a9 gmail-nc684nl6 gmail-p7hjln8o gmail-kvgmc6g5 gmail-cxmmr5t8 gmail-oygrvhab gmail-hcukyx3x gmail-jb3vyjys gmail-rz4wbd8a gmail-qt6c0cv9 gmail-a8nywdso gmail-i1ao9s8h esuyzwwr gmail-f1sip0of gmail-lzcic4wl gmail-gpro0wi8 gmail-py34i1dx" href="https://www.crisiscontrol.org/what-we-do/advocacy/poverty-simulations-and-living-on-the-edge.html?fbclid=IwAR04fN4edPcf1b9SAW3Kp5R-JcRNoI33DJooH_of2WFCDOorIj88yKxzx6g" rel="nofollow noopener" role="link" style="text-decoration-line: none\; outline: none\; list-style: none\; border: 0px\; padding: 0px\; margin: 0px\; background-color: transparent\; text-align: inherit\; display: inline\; box-sizing: border-box\; font-family: inherit\;" tabindex="0" target="_blank">https://www.crisiscontrol.org/.../poverty-simulations-and...</a></span></span></div>\n\n<div class="gmail-bi6gxh9e" style="text-size-adjust: auto\; margin-bottom: 8px\; font-family: system-ui\, -apple-system\, system-ui\, &quot\;.SFNSText-Regular&quot\;\, sans-serif\; color: rgb(5\, 5\, 5)\; font-size: 15px\;"><span class="gmail-d2edcug0 gmail-hpfvmrgz gmail-qv66sw1b gmail-c1et5uql gmail-oi732d6d gmail-ik7dh3pa gmail-ht8s03o8 gmail-jq4qci2q gmail-a3bd9o3v gmail-b1v8xokw gmail-oo9gr5id" style="line-height: 1.3333\; max-width: 100%\; min-width: 0px\; font-family: inherit\; font-size: 0.9375rem\; word-break: break-word\;">To that end\, you are invited to join Leadership Lewisville-Clemmons for a Poverty Simulation on June 7 from 9-11 AM at the Mary Alice Warren Community Center in Lewisville. There is NO COST to participate. To learn more or sign up\, contact Lexi Scoggin at: 330-881-0969 or&nbsp\;<span style="font-family: inherit\;"><a class="gmail-oajrlxb2 gmail-g5ia77u1 gmail-qu0x051f esr5mh6w e9989ue4 gmail-r7d6kgcz gmail-rq0escxv gmail-nhd2j8a9 gmail-nc684nl6 gmail-p7hjln8o gmail-kvgmc6g5 gmail-cxmmr5t8 gmail-oygrvhab gmail-hcukyx3x gmail-jb3vyjys gmail-rz4wbd8a gmail-qt6c0cv9 gmail-a8nywdso gmail-i1ao9s8h esuyzwwr gmail-f1sip0of gmail-lzcic4wl gmail-gpro0wi8 gmail-py34i1dx" href="mailto:ascoggin2@gmail.com" role="link" style="text-decoration-line: none\; outline: none\; list-style: none\; border: 0px\; padding: 0px\; margin: 0px\; background-color: transparent\; text-align: inherit\; display: inline\; box-sizing: border-box\; font-family: inherit\;" tabindex="0" target="_blank">ascoggin2@gmail.com</a></span>. RSVP by May 20.</span></div>\n\n<div class="gmail-bi6gxh9e" style="text-size-adjust: auto\; margin-bottom: 8px\; font-family: system-ui\, -apple-system\, system-ui\, &quot\;.SFNSText-Regular&quot\;\, sans-serif\; color: rgb(5\, 5\, 5)\; font-size: 15px\;"><span class="gmail-d2edcug0 gmail-hpfvmrgz gmail-qv66sw1b gmail-c1et5uql gmail-oi732d6d gmail-ik7dh3pa gmail-ht8s03o8 gmail-jq4qci2q gmail-a3bd9o3v gmail-b1v8xokw gmail-oo9gr5id" style="line-height: 1.3333\; max-width: 100%\; min-width: 0px\; font-family: inherit\; font-size: 0.9375rem\; word-break: break-word\;">PS - We need at least 40 individuals to make this a successful simulation so if you are at all interested\, we would appreciate your participation!&nbsp\;</span></div>\n
LOCATION:Mary Alice Warren Community Center 7632 Warren Pk Dr Lewisville\, NC
UID:e.2513.5887
SEQUENCE:3
DTSTAMP:20260423T065746Z
URL:https://members.lewisville-clemmons.com/events/details/the-poverty-simulation-experience-5887
END:VEVENT

END:VCALENDAR
