BEGIN:VCALENDAR
VERSION:2.0
PRODID:-//ChamberMaster//Event Calendar 2.0//EN
METHOD:PUBLISH
X-PUBLISHED-TTL:P3D
REFRESH-INTERVAL:P3D
CALSCALE:GREGORIAN
BEGIN:VEVENT
DTSTART:20221020T160000Z
DTEND:20221020T170000Z
X-MICROSOFT-CDO-ALLDAYEVENT:FALSE
SUMMARY:The Art of Customer Service
DESCRIPTION:There is an art to customer service and the question is -- are you an artist?  This Lunch & Learn event is brought to you by Marzano Capital Group and together\, we'll explore how customer service effects the bottom line!\n\n\n\n\n\nPresenter:  Jeff Case\n\nBio coming soon!\n\n \n\n\n\nSponsored by Marzano Capital Group
X-ALT-DESC;FMTTYPE=text/html:<span style="font-size:14px\;"><span style="font-family:arial\;">There is an art to customer service and the question is -- are you an artist?&nbsp\; This Lunch &amp\; Learn event is brought to you by Marzano Capital Group and together\, we&#39\;ll explore how customer service effects the bottom line!<br />\n<br />\n<br />\n<strong>Presenter:&nbsp\; Jeff Case</strong><br />\nBio coming soon!</span></span><br />\n&nbsp\;\n<div style="color:rgb(0\, 0\, 0)\;font-family:Avenir-Book\;font-size:12px\;text-size-adjust:auto\;">\n<div><br />\n<a href="https://triadbusinessbank.com/">Sponsored by M</a><a href="https://www.marzanocapitalgroup.com/">arzano Capital Group</a></div>\n</div>\n
LOCATION:Historic Broyhill 3540 Clemmons Road Clemmons\, NC 27012
UID:e.2513.6060
SEQUENCE:3
DTSTAMP:20260424T220728Z
URL:https://members.lewisville-clemmons.com/events/details/the-art-of-customer-service-6060
END:VEVENT

END:VCALENDAR
