BEGIN:VCALENDAR
VERSION:2.0
PRODID:-//ChamberMaster//Event Calendar 2.0//EN
METHOD:PUBLISH
X-PUBLISHED-TTL:P3D
REFRESH-INTERVAL:P3D
CALSCALE:GREGORIAN
BEGIN:VEVENT
DTSTART;VALUE=DATE:20220622
DTEND;VALUE=DATE:20220623
TRANSP:TRANSPARENT
X-MICROSOFT-CDO-ALLDAYEVENT:TRUE
SUMMARY:Swag Bag Deadline: Welcome Bags
DESCRIPTION:DEADLINE EXTENDED!  \n\nGot Swag?!\n\n \n\nWe are preparing 150 swag bags for our annual Welcome Bag Program! If you would like to be included\, please click here to pay $50 for inclusion in the bag! Promotional materials are due to the Chamber office no later than 8 AM on Wednesday\, June 22nd.  These bags will be distributed to new Lewisville and Clemmons residents.
X-ALT-DESC;FMTTYPE=text/html:<span style="font-size:14px\;"><span style="font-family:arial\;"><strong><span style="font-size:20px\;"><span style="color:#6600cc\;">DEADLINE EXTENDED!&nbsp\;&nbsp\;</span></span><br />\nGot Swag?!</strong><br />\n&nbsp\;<br />\n<span style="color:#403f42\;">We are preparing 150 swag bags for our annual Welcome Bag Program!&nbsp\;</span><span style="color:#403f42\;">If you would like to be included\, please click here to pay $50 for inclusion in the bag!&nbsp\;</span><span style="color:#403f42\;">Promotional materials are due to the Chamber office&nbsp\;</span><span style="color:#403f42\;">no later than 8 AM on Wednesday\, June 22nd.&nbsp\; These bags will be distributed to new Lewisville and Clemmons residents.</span><br />\n&nbsp\;</span></span>
LOCATION:The Lewisville-Clemmons Chamber of Commerce office Historic Broyhill\, Suite 112 3540 Clemmons Road Clemmons\, NC 27012
UID:e.2513.5895
SEQUENCE:3
DTSTAMP:20260423T052830Z
URL:https://members.lewisville-clemmons.com/events/details/swag-bag-deadline-welcome-bags-5895
END:VEVENT

END:VCALENDAR
