BEGIN:VCALENDAR
VERSION:2.0
PRODID:-//ChamberMaster//Event Calendar 2.0//EN
METHOD:PUBLISH
X-PUBLISHED-TTL:P3D
REFRESH-INTERVAL:P3D
CALSCALE:GREGORIAN
BEGIN:VEVENT
DTSTART:20220518T120000Z
DTEND:20220518T130000Z
X-MICROSOFT-CDO-ALLDAYEVENT:FALSE
SUMMARY:Swag Bag Deadline: Tour of Lewisville
DESCRIPTION:Got Swag?!\n\n \n\nWe are preparing 300 swag bags for our 2022 Tour of Lewisville cyclists! If you would like to be included\, please click here to pay $50 for inclusion in the bag! Promotional materials are due to the Chamber office no later than 8 AM on Wednesday\, May 18th.
X-ALT-DESC;FMTTYPE=text/html:<span style="font-size:14px\;"><span style="font-family:arial\;"><strong>Got Swag?!</strong><br />\n&nbsp\;<br />\n<span style="color:#403f42\;">We are preparing 300 swag bags for our 2022 Tour of Lewisville cyclists!&nbsp\;</span><span style="color:#403f42\;">If you would like to be included\, please click here to pay $50 for inclusion in the bag!&nbsp\;</span><span style="color:#403f42\;">Promotional materials are due to the Chamber office&nbsp\;</span><span style="color:#403f42\;">no later than 8 AM on Wednesday\, May 18th.</span><br />\n&nbsp\;</span></span>
LOCATION:The Lewisville-Clemmons Chamber of Commerce office Historic Broyhill\, Suite 112 3540 Clemmons Road Clemmons\, NC 27012
UID:e.2513.5889
SEQUENCE:3
DTSTAMP:20260423T071609Z
URL:https://members.lewisville-clemmons.com/events/details/swag-bag-deadline-tour-of-lewisville-5889
END:VEVENT

END:VCALENDAR
