BEGIN:VCALENDAR
VERSION:2.0
PRODID:-//ChamberMaster//Event Calendar 2.0//EN
METHOD:PUBLISH
X-PUBLISHED-TTL:P3D
REFRESH-INTERVAL:P3D
CALSCALE:GREGORIAN
BEGIN:VEVENT
DTSTART:20220914T180000Z
DTEND:20220914T200000Z
X-MICROSOFT-CDO-ALLDAYEVENT:FALSE
SUMMARY:Signature Wealth Strategies Ribbon Cutting
DESCRIPTION:Join us on Wednesday\, September 14th at 2 PM for a ribbon cutting to celebrate Signature Wealth Strategies! Everyone is welcome! Enjoy refreshments and networking.\n\n\n\nCongratulate Sean! Click here to send him an email.
X-ALT-DESC;FMTTYPE=text/html:<div style="color: rgb(64\, 63\, 66)\; font-family: Arial\, Verdana\, Helvetica\, sans-serif\; font-size: 12px\; white-space: pre-wrap\;"><span style="font-size:14px\;"><span style="font-family:tahoma\;">Join us on <strong>Wednesday<span style="font-weight: bold\;">\, September 14th</span> at 2 PM</strong> for a ribbon cutting to celebrate <strong><a href="https://signaturewealthwinstonboone.com/">Signature Wealth Strategies</a></strong>! <span style="color: rgb(64\, 63\, 66)\; white-space: pre-wrap\; background-color: rgb(255\, 255\, 255)\;">Everyone is welcome! </span>Enjoy refreshments and networking.<br />\n<br />\nCongratulate Sean! Click <strong><a href="mailto:sbokhoven@signaturewealth.com?subject=Congratulations!">here</a></strong> to send him an email<strong>.</strong></span></span><br />\n&nbsp\;</div>\n
LOCATION:Signature Wealth Strategies 3330 Healy Drive\, Suite 110 Winston-Salem\, NC 27013 : (336) 728-6954
UID:e.2513.6052
SEQUENCE:3
DTSTAMP:20260423T012128Z
URL:https://members.lewisville-clemmons.com/events/details/signature-wealth-strategies-ribbon-cutting-6052
END:VEVENT

END:VCALENDAR
