BEGIN:VCALENDAR
VERSION:2.0
PRODID:-//ChamberMaster//Event Calendar 2.0//EN
METHOD:PUBLISH
X-PUBLISHED-TTL:P3D
REFRESH-INTERVAL:P3D
CALSCALE:GREGORIAN
BEGIN:VEVENT
DTSTART:20231012T150000Z
DTEND:20231012T160000Z
X-MICROSOFT-CDO-ALLDAYEVENT:FALSE
SUMMARY:Rehab Medicine Ribbon Cutting
DESCRIPTION:Join us on Thursday\, October 12th at 11 AM for a ribbon cutting to celebrate Rehab Medicine of the Carolinas! Everyone is welcome! \n\n\n\nPlease join us in congratulating Dr. Adrienne Hill! Send her an email to congratulate her here!\n\nRehab Medicine of the Carolinas    \n\n2554 Lewisville-Clemmons Road\n\nClemmons\, NC 27012\n\n  : (336) 986-9537
X-ALT-DESC;FMTTYPE=text/html:<div style="color: rgb(64\, 63\, 66)\; font-family: Arial\, Verdana\, Helvetica\, sans-serif\; font-size: 12px\; white-space: pre-wrap\;"><span style="font-size:16px\;"><span style="color:#000000\;">Join us on <strong>Thursday<span style="font-weight: bold\;">\, October 12th</span> at 11 AM</strong> for a ribbon cutting to celebrate <a href="https://rmotc.org/"><b>Rehab Medicine of the Carolinas</b></a></span><span style="color:#000000\;">! <span style="white-space: pre-wrap\; background-color: rgb(255\, 255\, 255)\;">Everyone is welcome! </span></span></span><br />\n<br />\n<span style="font-size:16px\;"><span style="color:#000000\;">Please join us in congratulating Dr. Adrienne Hill! <a href="mailto: drhill@rmotc.org?subject=Congratulations!">Send her an email to congratulate her here!</a></span></span><br />\n<span style="font-size: 16px\;"><span style="color: rgb(0\, 0\, 0)\;">Rehab Medicine of the Carolinas</span></span><span style="font-size: 18px\;">&nbsp\;&nbsp\;&nbsp\;&nbsp\;</span><br style="font-size: 18px\;" />\n<span style="font-size: 18px\;">2554 Lewisville-Clemmons Road</span><br style="font-size: 18px\;" />\n<span style="font-size: 16px\;"><span style="color: rgb(0\, 0\, 0)\;">Clemmons\, NC 27012<br />\n&#9742\;&#65039\;<b style="margin: 0px\; padding: 0px\; border: 0px\; outline: 0px\; vertical-align: baseline\; background: 0px 0px\;">:</b>&nbsp\;</span></span><span style="font-size: 18px\;">(336) 986-9537</span></div>\n
LOCATION:Rehab Medicine of the Carolinas 2554 Lewisville-Clemmons Road Clemmons\, NC 27012 : (336) 986-9537
UID:e.2513.6355
SEQUENCE:3
DTSTAMP:20260425T173732Z
URL:https://members.lewisville-clemmons.com/events/details/rehab-medicine-ribbon-cutting-6355
END:VEVENT

END:VCALENDAR
