BEGIN:VCALENDAR
VERSION:2.0
PRODID:-//ChamberMaster//Event Calendar 2.0//EN
METHOD:PUBLISH
X-PUBLISHED-TTL:P3D
REFRESH-INTERVAL:P3D
CALSCALE:GREGORIAN
BEGIN:VEVENT
DTSTART:20221102T130000Z
DTEND:20221102T160000Z
X-MICROSOFT-CDO-ALLDAYEVENT:FALSE
SUMMARY:Operations Hiring Event
DESCRIPTION:Winston-Salem/Forsyth County Schools is excited to be hosting a Hiring Event for our Operations Departments. We will be doing on site interviews for Custodians\, Bus Drivers\, Kitchen Assistants\, and several other positions for our Operations Departments.\n\n\n\nOur Operations Teams:\n\n- Child Nutrition\n\n- Choice & Magnet\n\n- Maintenance\n\n- Security\n\n- Technology\n\n- Transportation\n\n\n\nWS/FCS is the fourth largest school system in North Carolina. We offer great benefits and rewards to our employees\, an employee wellness program and room to grow with leadership opportunities.\n\n\n\nFor Questions - Please reach out to Kaitlin Wilmoth\, Employee Recruitment Coordinator at kawilmoth@wsfcs.k12.nc.us\n\n\n\nSign up at: bit.ly/ops_hiringfair
X-ALT-DESC;FMTTYPE=text/html:Winston-Salem/Forsyth County Schools is excited to be hosting a Hiring Event for our Operations Departments. We will be doing on site interviews for Custodians\, Bus Drivers\, Kitchen Assistants\, and several other positions for our Operations Departments.<br />\n<br />\nOur Operations Teams:<br />\n- Child Nutrition<br />\n- Choice &amp\; Magnet<br />\n- Maintenance<br />\n- Security<br />\n- Technology<br />\n- Transportation<br />\n<br />\nWS/FCS is the fourth largest school system in North Carolina. We offer great benefits and rewards to our employees\, an employee wellness program and room to grow with leadership opportunities.<br />\n<br />\nFor Questions - Please reach out to Kaitlin Wilmoth\, Employee Recruitment Coordinator at kawilmoth@wsfcs.k12.nc.us<br />\n<br />\nSign up at:&nbsp\;bit.ly/ops_hiringfair
LOCATION:Griffith Elementary School Gym - Located in front of the Deaton Thompson Stadium 2052 Old Salisbury Road\, Winston-Salem\, NC 27127
UID:e.2513.6065
SEQUENCE:3
DTSTAMP:20260425T012604Z
URL:https://members.lewisville-clemmons.com/events/details/operations-hiring-event-6065
END:VEVENT

END:VCALENDAR
