BEGIN:VCALENDAR
VERSION:2.0
PRODID:-//ChamberMaster//Event Calendar 2.0//EN
METHOD:PUBLISH
X-PUBLISHED-TTL:P3D
REFRESH-INTERVAL:P3D
CALSCALE:GREGORIAN
BEGIN:VEVENT
DTSTART:20230513T123000Z
DTEND:20230513T183000Z
X-MICROSOFT-CDO-ALLDAYEVENT:FALSE
SUMMARY:Mother's Day High Tea
DESCRIPTION:THE FOLLOWING IS NOT A CHAMBER EVENT\; please contact the event organizer with any questions.\n\n\n\nMother's Day High Tea @ The Hive at Be Kind Coffee Co.\n\n\nTreat Mom to a Mother's Day to Remember!\n\n\n\nJoin us for our First Mother's Day High Tea - a classic High Tea experience\, serving locally owned\, Esther Tea Company teas\, and sweet & savory delights by Be Kind Coffee Co! Sip your tea of choice to the beautiful instrumental guitar music of local artist\, Tom Caufield\, as you indulge in specialty tea party treats.\n\n\n\nCelebrate Mom with this one of a kind experience - she deserves it!\n\n\n\nEach reservation is 1.5 hours. Enjoy a local artist Vendor Pop-Up Market on the lawn\, Chair Massages by Lovingkindness Reiki & Yoga\, and beautiful Live Music!\n\n\n\nBOOKING INSTRUCTIONS:\n\n\n\nHead to our website\, bekindcoffeeco.com\, select the 'Events' tab and click on 'Experiences.'\n\n\n\nNavigate the calendar to the event date - May 13th - to enable\, and then select your preferred seating time: 8:30am\, 10:30am\, 12:30pm\, 2:30pm. \n\n\n\nReservations are fully booked once payment has been processed. For any questions\, call us directly at 336-893-9892.\n\n\n\nWe can't wait to see you!
X-ALT-DESC;FMTTYPE=text/html:<h2 style="font-style:italic\;"><strong style="color: rgb(255\, 0\, 0)\; font-family: Tahoma\, Geneva\, sans-serif\; font-size: 14px\; white-space: pre-wrap\;">THE FOLLOWING IS NOT A CHAMBER EVENT\; please contact the event organizer with any questions.</strong><br />\n<br />\n<span style="font-family:verdana"><strong>Mother&#39\;s Day High Tea @ The Hive at Be Kind Coffee Co.</strong></span></h2>\n<br />\n<span style="font-family:verdana"><span style="color:rgb(10\, 10\, 11)\; font-size:16px">Treat Mom to a Mother&#39\;s Day to Remember!</span><br />\n<br />\n<span style="color:rgb(10\, 10\, 11)\; font-size:16px">Join us for our First Mother&#39\;s Day High Tea - a classic High Tea experience\, serving locally owned\, Esther Tea Company teas\, and sweet &amp\; savory delights by Be Kind Coffee Co! Sip your tea of choice to the beautiful instrumental guitar music of local artist\, Tom Caufield\, as you indulge in specialty tea party treats.</span><br />\n<br />\n<span style="color:rgb(10\, 10\, 11)\; font-size:16px">Celebrate Mom with this one of a kind experience - she deserves it!<br />\n<br />\nEach reservation is 1.5 hours. Enjoy a local artist Vendor Pop-Up Market on the lawn\, Chair Massages by Lovingkindness Reiki &amp\; Yoga\, and beautiful Live Music!</span><br />\n<br />\n<span style="color:rgb(10\, 10\, 11)\; font-size:16px">BOOKING INSTRUCTIONS:</span><br />\n<br />\n<span style="color:rgb(10\, 10\, 11)\; font-size:16px">Head to our website\, bekindcoffeeco.com\, select the &#39\;Events&#39\; tab and click on &#39\;Experiences.&#39\;<br />\n<br />\nNavigate the calendar to the event date - May 13th - to enable\, and then select your preferred seating time: 8:30am\, 10:30am\, 12:30pm\, 2:30pm.&nbsp\;<br />\n<br />\nReservations are fully booked once payment has been processed. For any questions\, call us directly at 336-893-9892.<br />\n<br />\nWe can&#39\;t wait to see you!</span></span>
LOCATION:Be Kind Coffee Co. 3560 Clemmons Road\, Ste. B Clemmons\, NC 27012
UID:e.2513.6346
SEQUENCE:3
DTSTAMP:20260425T120325Z
URL:https://members.lewisville-clemmons.com/events/details/mother-s-day-high-tea-6346
END:VEVENT

END:VCALENDAR
