BEGIN:VCALENDAR
VERSION:2.0
PRODID:-//ChamberMaster//Event Calendar 2.0//EN
METHOD:PUBLISH
X-PUBLISHED-TTL:P3D
REFRESH-INTERVAL:P3D
CALSCALE:GREGORIAN
BEGIN:VEVENT
DTSTART:20231026T160000Z
DTEND:20231026T170000Z
X-MICROSOFT-CDO-ALLDAYEVENT:FALSE
SUMMARY:Mapping Your Direction
DESCRIPTION:Workshop Description coming soon!\n\n\n\nPresenter:  Kristin Johnson\n\n\nBio coming soon\n\n\n\n\n\nSponsored by Marzano Capital Group\n\n\n\nCATERER:  Coming Soon!
X-ALT-DESC;FMTTYPE=text/html:<span style="font-family:tahoma\;"><span style="font-size:14px\;"><font color="#000000">Workshop Description coming soon!</font><br />\n<br />\n<strong>Presenter:&nbsp\; <span style="color: rgb(0\, 0\, 0)\;">Kristin Johnson</span></strong></span></span>\n<div style="color: rgb(0\, 0\, 0)\; text-size-adjust: auto\;">\n<div class="page" style="" title="Page 1">\n<p class="p1" style="margin: 0px\; font-variant-numeric: normal\; font-variant-east-asian: normal\; font-stretch: normal\; line-height: normal\; color: rgb(0\, 0\, 0)\;"><font face="tahoma"><span style="font-size: 14px\;">Bio coming soon</span></font></p>\n</div>\n<br />\n<br />\n<span style="font-family: tahoma\; font-size: 12px\;"><span style="font-size:14px\;"><a href="https://triadbusinessbank.com/">Sponsored by M</a><a href="https://www.marzanocapitalgroup.com/">arzano Capital Group</a><br />\n<br />\nCATERER:&nbsp\; Coming Soon!</span></span></div>\n
LOCATION:Historic Broyhill 3540 Clemmons Road Clemmons\, NC 27012
UID:e.2513.6129
SEQUENCE:3
DTSTAMP:20260425T173505Z
URL:https://members.lewisville-clemmons.com/events/details/mapping-your-direction-6129
END:VEVENT

END:VCALENDAR
