BEGIN:VCALENDAR
VERSION:2.0
PRODID:-//ChamberMaster//Event Calendar 2.0//EN
METHOD:PUBLISH
X-PUBLISHED-TTL:P3D
REFRESH-INTERVAL:P3D
CALSCALE:GREGORIAN
BEGIN:VEVENT
DTSTART:20220519T153000Z
DTEND:20220519T170000Z
X-MICROSOFT-CDO-ALLDAYEVENT:FALSE
SUMMARY:Lunch and Learn - Set Your Mind to Success
DESCRIPTION:Gain new perspective on building your business.\n\n \n\nActionCOACH has partnered with the Lewisville-Clemmons Chamber of Commerce and Maddie Cakes Bakery to bring you this lunch and learn event.\n\nWhether your business is doing $500k or $5m\, the model for growth is the same. You'll learn that the complexities of business can be simplified according to this proven recipe.\n\n \n\nYou will leave with clarity and focus\, understanding exactly where your business is and what the next action steps are to tackle. If you're further along in your business journey\, this event is also great for planning succession and exit strategies.\n\n \n\nThursday\, May 19\, 2022\n\n11:30 AM - 1 PM\n\nMaddie Cakes Bakery\n\n5397 US-158   Bermuda Run\n\n \n\nFREE event\, but registration is required!
X-ALT-DESC;FMTTYPE=text/html:<div align="center" style="color: rgb(26\, 25\, 26)\; font-family: Roboto\, sans-serif\; font-size: 16px\; text-align: center\;"><span style="font-weight: bold\; color: rgb(0\, 0\, 0)\;">Gain new perspective on building your business.</span></div>\n\n<div align="center" style="color: rgb(26\, 25\, 26)\; font-family: Roboto\, sans-serif\; font-size: 16px\; text-align: center\;">&nbsp\;</div>\n\n<div align="center" style="color: rgb(26\, 25\, 26)\; font-family: Roboto\, sans-serif\; font-size: 16px\; text-align: center\;"><span style="color: rgb(0\, 0\, 0)\;">ActionCOACH has partnered with the Lewisville-Clemmons Chamber of Commerce and&nbsp\;</span><a href="https://www.google.com/maps/dir//maddie+cakes+bakery+2/data=!4m6!4m5!1m1!4e2!1m2!1m1!1s0x8853b88ba7291ff3:0xeceb099a51058d17?sa=X&amp\;ved=2ahUKEwiA98L749X3AhXyrmoFHTMnBA8Q9Rd6BAhYEAU" rel="noopener noreferrer" style="color: rgb(0\, 0\, 0)\;" target="_blank">Maddie Cakes Bakery</a><span style="color: rgb(0\, 0\, 0)\;">&nbsp\;to bring you this lunch and learn event.</span></div>\n\n<div align="center" style="color: rgb(26\, 25\, 26)\; font-family: Roboto\, sans-serif\; font-size: 16px\; text-align: center\;"><span style="color: rgb(0\, 0\, 0)\;">Whether your business is doing $500k or $5m\, the model for growth is the same. You&#39\;ll learn that the complexities of business can be simplified according to this proven recipe.</span></div>\n\n<div align="center" style="color: rgb(26\, 25\, 26)\; font-family: Roboto\, sans-serif\; font-size: 16px\; text-align: center\;">&nbsp\;</div>\n\n<div align="center" style="color: rgb(26\, 25\, 26)\; font-family: Roboto\, sans-serif\; font-size: 16px\; text-align: center\;"><span style="color: rgb(0\, 0\, 0)\;">You will leave with clarity and focus\, understanding exactly where your business is and what the next action steps are to tackle. If you&#39\;re further along in your business journey\, this event is also great for planning succession and exit strategies.</span></div>\n\n<div align="center" style="color: rgb(26\, 25\, 26)\; font-family: Roboto\, sans-serif\; font-size: 16px\; text-align: center\;">&nbsp\;</div>\n\n<div align="center" style="color: rgb(26\, 25\, 26)\; font-family: Roboto\, sans-serif\; font-size: 16px\; text-align: center\;"><span style="color: rgb(0\, 0\, 0)\;">Thursday\, May 19\, 2022</span></div>\n\n<div align="center" style="color: rgb(26\, 25\, 26)\; font-family: Roboto\, sans-serif\; font-size: 16px\; text-align: center\;"><span style="color: rgb(0\, 0\, 0)\;">11:30 AM - 1 PM</span></div>\n\n<div align="center" style="color: rgb(26\, 25\, 26)\; font-family: Roboto\, sans-serif\; font-size: 16px\; text-align: center\;"><span style="color: rgb(0\, 0\, 0)\;">Maddie Cakes Bakery</span></div>\n\n<div align="center" style="color: rgb(26\, 25\, 26)\; font-family: Roboto\, sans-serif\; font-size: 16px\; text-align: center\;"><span style="color: rgb(0\, 0\, 0)\;">5397 US-158 &bull\; Bermuda Run</span></div>\n\n<div align="center" style="color: rgb(26\, 25\, 26)\; font-family: Roboto\, sans-serif\; font-size: 16px\; text-align: center\;">&nbsp\;</div>\n\n<div align="center" style="color: rgb(26\, 25\, 26)\; font-family: Roboto\, sans-serif\; font-size: 16px\; text-align: center\;"><span style="color: rgb(0\, 0\, 0)\;">FREE event\, but <a href="https://www.eventbrite.com/e/set-your-mind-to-success-tickets-332906300707">registration</a> is required!</span></div>\n
LOCATION:Maddie Cakes Bakery 5397 US-158 Bermuda Run
UID:e.2513.5885
SEQUENCE:3
DTSTAMP:20260423T070337Z
URL:https://members.lewisville-clemmons.com/events/details/lunch-and-learn-set-your-mind-to-success-5885
END:VEVENT

END:VCALENDAR
