BEGIN:VCALENDAR
VERSION:2.0
PRODID:-//ChamberMaster//Event Calendar 2.0//EN
METHOD:PUBLISH
X-PUBLISHED-TTL:P3D
REFRESH-INTERVAL:P3D
CALSCALE:GREGORIAN
BEGIN:VEVENT
DTSTART:20221205T223000Z
DTEND:20221206T003000Z
X-MICROSOFT-CDO-ALLDAYEVENT:FALSE
SUMMARY:Leading Connections 2nd Annual Chamber Social
DESCRIPTION:The Leading Connections networking group is hosting a social at The Playground on Monday\, December 5 from 5:30 - 7:30 PM. All Chamber members are invited\, as well as folks who are not in the Chamber but might be interested in exploring it. If you know of anyone who might be interested in joining the Chamber\, please invite them to this event! This is also an opportunity for people to meet members of the Chamber networking groups and explore any interest in joining a networking group. We look forward to seeing you there!
X-ALT-DESC;FMTTYPE=text/html:<span style="color: rgb(34\, 34\, 34)\; font-family: &quot\;Helvetica Neue&quot\;\, Helvetica\, Arial\, sans-serif\; font-size: 14px\;">The Leading Connections networking group is hosting a social at The Playground on Monday\, December 5 from 5:30 - 7:30 PM. All Chamber members are invited\, as well as folks who are not in the Chamber but might be interested in exploring it. If you know of anyone who might be interested in joining the Chamber\, please invite them to this event! This is also an opportunity for people to meet members of the Chamber networking groups and explore any interest in joining a networking group. We look forward to seeing you there!</span>
LOCATION:The Playground Golf and Sports Bar 6355 Jessie Ln\, Clemmons\, NC 27012
UID:e.2513.6066
SEQUENCE:3
DTSTAMP:20260425T030735Z
URL:https://members.lewisville-clemmons.com/events/details/leading-connections-2nd-annual-chamber-social-6066
END:VEVENT

END:VCALENDAR
