BEGIN:VCALENDAR
VERSION:2.0
PRODID:-//ChamberMaster//Event Calendar 2.0//EN
METHOD:PUBLISH
X-PUBLISHED-TTL:P3D
REFRESH-INTERVAL:P3D
CALSCALE:GREGORIAN
BEGIN:VEVENT
DTSTART:20231019T153000Z
DTEND:20231019T163000Z
X-MICROSOFT-CDO-ALLDAYEVENT:FALSE
SUMMARY:Kidney Nutrition Care Center Ribbon Cutting
DESCRIPTION:Join us on Thursday\, October 19th at 11:30 AM for a ribbon cutting to celebrate Kidney Nutrition Care Center! Everyone is welcome! \n\n\n\nPlease join us in congratulating Kathy Crotts! Send her an email to congratulate her here!\n\n\n\nKidney Nutrition Care Center\n\n101-A Wilkesboro Street\n\nMocksville\, NC 27028\n\n  : (336) 936.8169
X-ALT-DESC;FMTTYPE=text/html:<div style="font-family: Arial\, Verdana\, Helvetica\, sans-serif\; white-space: pre-wrap\;"><span style="color: rgb(64\, 63\, 66)\; font-size: 16px\;"><span style="color:#000000\;">Join us on <strong>Thursday<span style="font-weight: bold\;">\, October 19th</span> at 11:30 AM</strong> for a ribbon cutting to celebrate <a href="https://kidneynutritioncare.com/"><b>Kidney Nutrition Care Center</b></a></span><span style="color:#000000\;">! <span style="white-space: pre-wrap\; background-color: rgb(255\, 255\, 255)\;">Everyone is welcome! </span></span></span><br />\n<br />\n<span style="color: rgb(64\, 63\, 66)\; font-size: 16px\;"><span style="color:#000000\;">Please join us in congratulating Kathy Crotts! <a href="mailto: kathy.crotts@kidneynutritioncare.com?subject=Congratulations!">Send her an email to congratulate her here!</a></span></span><br />\n<br />\n<font color="#000000"><span style="font-size: 16px\;">Kidney Nutrition Care Center</span></font><br style="font-size: 18px\;" />\n<span style="color: rgb(64\, 63\, 66)\; font-size: 18px\;">101-A Wilkesboro Street</span><br style="font-size: 18px\;" />\n<span style="color: rgb(64\, 63\, 66)\; font-size: 16px\;"><span style="color: rgb(0\, 0\, 0)\;">Mocksville\, NC 27028<br />\n&#9742\;&#65039\;<b style="margin: 0px\; padding: 0px\; border: 0px\; outline: 0px\; vertical-align: baseline\; background: 0px 0px\;">:</b>&nbsp\;</span></span><span style="color: rgb(64\, 63\, 66)\; font-size: 18px\;">(336) 936.8169</span></div>\n
LOCATION:Kidney Nutrition Care Center 101-A Wilkesboro Street Mocksville\, NC 27028 : (336) 936.8169
UID:e.2513.6356
SEQUENCE:3
DTSTAMP:20260425T191241Z
URL:https://members.lewisville-clemmons.com/events/details/kidney-nutrition-care-center-ribbon-cutting-6356
END:VEVENT

END:VCALENDAR
