BEGIN:VCALENDAR
VERSION:2.0
PRODID:-//ChamberMaster//Event Calendar 2.0//EN
METHOD:PUBLISH
X-PUBLISHED-TTL:P3D
REFRESH-INTERVAL:P3D
CALSCALE:GREGORIAN
BEGIN:VEVENT
DTSTART:20220430T140000Z
DTEND:20220430T180000Z
X-MICROSOFT-CDO-ALLDAYEVENT:FALSE
SUMMARY:Kicking for Miracles
DESCRIPTION:Kicking for Miracles is a one-day demonstration from 10:00 a.m. to 2:00 p.m.\, featuring our Tae Kwon Do students. The most exciting part is that all participants will have the opportunity to kick\, punch\, chop and break a total of 3\,000 boards! Demonstration teams from our schools will perform a variety of techniques such as board breaking\, sparring\, poomsae\, and other demonstrations! All proceeds from this event go directly to Brenner Children's Hospital.
X-ALT-DESC;FMTTYPE=text/html:<span style="color:rgb(96\, 94\, 94)\; font-family:din-next-w01-light\,din-next-w02-light\,din-next-w10-light\,sans-serif\; font-size:15px">Kicking for Miracles is a one-day demonstration from 10:00 a.m. to 2:00 p.m.\, featuring our Tae Kwon Do students. The most exciting part is that all participants will have the opportunity to kick\, punch\, chop and break a total of 3\,000 boards! Demonstration teams from our schools will perform a variety of techniques such as board breaking\, sparring\, poomsae\, and other demonstrations!&nbsp\;All proceeds from this event go directly to&nbsp\;Brenner Children&rsquo\;s Hospital.</span>
LOCATION:1425 River Ridge Dr. Clemmons\, NC
UID:e.2513.5884
SEQUENCE:3
DTSTAMP:20260423T083623Z
URL:https://members.lewisville-clemmons.com/events/details/kicking-for-miracles-5884
END:VEVENT

END:VCALENDAR
