BEGIN:VCALENDAR
VERSION:2.0
PRODID:-//ChamberMaster//Event Calendar 2.0//EN
METHOD:PUBLISH
X-PUBLISHED-TTL:P3D
REFRESH-INTERVAL:P3D
CALSCALE:GREGORIAN
BEGIN:VEVENT
DTSTART:20230613T152000Z
DTEND:20230613T170000Z
X-MICROSOFT-CDO-ALLDAYEVENT:FALSE
SUMMARY:June 2023 Chamber Meeting
DESCRIPTION:Join us for the monthly Chamber Meeting!  Our meetings are the 2nd Tuesday of every month!  Check in starts at 11:20 and we officially start the meeting at 12 PM.\n\n \nOur June meeting will feature a panel discussion on Hot Business Topics\, including:\n\n\n	Insurance claims\n	Personnel Liability\n	Workers comp\n	And other business matters that effect our businesses!\n\n\n \n      \n\nRSVPs must be received by 10 AM the Thursday BEFORE our meeting so we can give an accurate headcount to our caterer!  Seating must be reserved for the meeting\, whether lunch is ordered or not!  \n\n\n\nMonthly Chamber Meetings are a Chamber Member benefit.  If you are not a member\, you are welcome to attend one meeting\, but you will be asked to join our Chamber for any meeting thereafter.\n\n\n\nOur 2023 Word of the Year is "Purpose!"  So make the commitment to join us!  We look forward to seeing you at the monthly Chamber meetings!
X-ALT-DESC;FMTTYPE=text/html:<span style="font-size:14px\;"><span style="font-family:tahoma\;">Join us for the monthly Chamber Meeting!&nbsp\; Our meetings are the 2nd Tuesday of every month!&nbsp\; Check in starts at 11:20 and we officially start the meeting at 12 PM.</span></span><br />\n&nbsp\;\n<p class="p1" style="margin: 0px\; font-variant-numeric: normal\; font-variant-east-asian: normal\; font-stretch: normal\; line-height: normal\; font-family: &quot\;Helvetica Neue&quot\;\; color: rgb(0\, 0\, 0)\;"><span style="font-size:14px\;"><span style="font-family:tahoma\;">Our June meeting will feature a panel discussion on Hot Business Topics\, including:</span></span></p>\n\n<ul class="ul1" style="color: rgb(0\, 0\, 0)\; font-size: medium\;">\n	<li class="li1" style="margin: 0px\; font-variant-numeric: normal\; font-variant-east-asian: normal\; font-stretch: normal\; font-size: 13px\; line-height: normal\; font-family: &quot\;Helvetica Neue&quot\;\;"><span style="font-size:14px\;"><span style="font-family:tahoma\;">Insurance claims</span></span></li>\n	<li class="li1" style="margin: 0px\; font-variant-numeric: normal\; font-variant-east-asian: normal\; font-stretch: normal\; font-size: 13px\; line-height: normal\; font-family: &quot\;Helvetica Neue&quot\;\;"><span style="font-size:14px\;"><span style="font-family:tahoma\;">Personnel Liability</span></span></li>\n	<li class="li1" style="margin: 0px\; font-variant-numeric: normal\; font-variant-east-asian: normal\; font-stretch: normal\; font-size: 13px\; line-height: normal\; font-family: &quot\;Helvetica Neue&quot\;\;"><span style="font-size:14px\;"><span style="font-family:tahoma\;">Workers comp</span></span></li>\n	<li class="li1" style="margin: 0px\; font-variant-numeric: normal\; font-variant-east-asian: normal\; font-stretch: normal\; font-size: 13px\; line-height: normal\; font-family: &quot\;Helvetica Neue&quot\;\;"><span style="font-size:14px\;"><span style="font-family:tahoma\;">And other business matters that effect our businesses!</span></span></li>\n</ul>\n\n<p class="p2" style="margin: 0px\; font-variant-numeric: normal\; font-variant-east-asian: normal\; font-stretch: normal\; line-height: normal\; font-family: &quot\;Helvetica Neue&quot\;\; min-height: 15px\; color: rgb(0\, 0\, 0)\;">&nbsp\;</p>\n<span style="font-size:14px\;"><span style="font-family:tahoma\;"> &bull\; &bull\; &bull\;<br />\n<strong>RSVPs must be received by 10 AM the Thursday BEFORE our meeting so we can give an accurate headcount to our caterer!&nbsp\; Seating must be reserved for the meeting\, whether lunch is ordered or not!&nbsp\;&nbsp\;</strong></span></span><br />\n<br />\n<strong style="font-family: tahoma\; font-size: 14px\;">Monthly Chamber Meetings are a Chamber Member benefit.&nbsp\; If you are not a member\, you are welcome to attend one meeting\, but you will be asked to join our Chamber for any meeting thereafter.</strong><br />\n<br />\n<span style="font-size:14px\;"><span style="font-family:tahoma\;">Our 2023 Word of the Year is &quot\;Purpose!&quot\;&nbsp\; So make the commitment to join us!&nbsp\; We look forward to seeing you at the monthly Chamber meetings!&nbsp\;&nbsp\;</span></span>
LOCATION:Broyhill Event Center 3540 Clemmons Road Clemmons\, NC 27012
UID:e.2513.6089
SEQUENCE:3
DTSTAMP:20260425T133532Z
URL:https://members.lewisville-clemmons.com/events/details/june-2023-chamber-meeting-6089
END:VEVENT

END:VCALENDAR
