BEGIN:VCALENDAR
VERSION:2.0
PRODID:-//ChamberMaster//Event Calendar 2.0//EN
METHOD:PUBLISH
X-PUBLISHED-TTL:P3D
REFRESH-INTERVAL:P3D
CALSCALE:GREGORIAN
BEGIN:VEVENT
DTSTART:20230624T150000Z
DTEND:20230624T160000Z
X-MICROSOFT-CDO-ALLDAYEVENT:FALSE
SUMMARY:Hallmark Ribbon Cutting
DESCRIPTION:Join us on Saturday\, June 24th at 11 AM for a ribbon cutting to celebrate Hallmark! Meet Hallmark authors\, Nancy Naigle and Lacey Baker! Everyone is welcome! \n\n\n\nHallmark\n\n2453 Market Center Drive\n\nClemmons\, NC 27012
X-ALT-DESC;FMTTYPE=text/html:<div style="color: rgb(64\, 63\, 66)\; font-family: Arial\, Verdana\, Helvetica\, sans-serif\; font-size: 12px\; white-space: pre-wrap\;"><span style="font-size:16px\;"><span style="font-family:tahoma\;"><span style="color:#000000\;">Join us on <strong>Saturday<span style="font-weight: bold\;">\, June 24th</span> at 11 AM</strong> for a ribbon cutting to celebrate <b>Hallmark</b>! Meet Hallmark authors\, </span>Nancy Naigle and Lacey Baker! <span style="color:#000000\;"><span style="white-space: pre-wrap\; background-color: rgb(255\, 255\, 255)\;">Everyone is welcome! </span></span><br />\n<br />\n<span style="color: rgb(0\, 0\, 0)\;">Hallmark</span><br style="color: rgb(0\, 0\, 0)\; font-size: 16px\;" />\n<font style="color: rgb(0\, 0\, 0)\; font-size: 16px\;">2453 Market Center Drive</font><br style="color: rgb(0\, 0\, 0)\; font-size: 16px\;" />\n<span style="color: rgb(0\, 0\, 0)\;">Clemmons\, NC 27012</span></span></span></div>\n
LOCATION:Hallmark 2453 Market Center Drive Clemmons\, NC 27012
UID:e.2513.6140
SEQUENCE:3
DTSTAMP:20260425T120301Z
URL:https://members.lewisville-clemmons.com/events/details/hallmark-ribbon-cutting-6140
END:VEVENT

END:VCALENDAR
