BEGIN:VCALENDAR
VERSION:2.0
PRODID:-//ChamberMaster//Event Calendar 2.0//EN
METHOD:PUBLISH
X-PUBLISHED-TTL:P3D
REFRESH-INTERVAL:P3D
CALSCALE:GREGORIAN
BEGIN:VEVENT
DTSTART:20221101T150000Z
DTEND:20221101T160000Z
X-MICROSOFT-CDO-ALLDAYEVENT:FALSE
SUMMARY:Fostering Faith Foundation Ribbon Cutting
DESCRIPTION:Join us on Tuesday\, November 1st at 11 AM for a ribbon cutting to celebrate Fostering Faith Foundation! Everyone is welcome! Enjoy refreshments and networking.\n\n\n\nCongratulate Tiffany! Click here to send her an email.
X-ALT-DESC;FMTTYPE=text/html:<div style="color: rgb(64\, 63\, 66)\; font-family: Arial\, Verdana\, Helvetica\, sans-serif\; font-size: 12px\; white-space: pre-wrap\;"><span style="font-size:14px\;"><span style="font-family:tahoma\;">Join us on <strong>Tuesday<span style="font-weight: bold\;">\, November 1st</span> at 11 AM</strong> for a ribbon cutting to celebrate <a href="https://www.fosteringfaithfoundation.org/"><b>Fostering Faith Foundation</b></a>! <span style="color: rgb(64\, 63\, 66)\; white-space: pre-wrap\; background-color: rgb(255\, 255\, 255)\;">Everyone is welcome! </span>Enjoy refreshments and networking.<br />\n<br />\nCongratulate Tiffany! Click <strong><a href="mailto:tmbirdsong@fosteringfaithfoundation.org?subject=Congratulations!">here</a></strong> to send her an email<strong>.</strong></span></span><br />\n&nbsp\;</div>\n
LOCATION:Fostering Faith Foundation 3540 Clemmons Road\, Suite 107 Clemmons\, NC 27012 : (336) 567-9387
UID:e.2513.6061
SEQUENCE:3
DTSTAMP:20260424T220917Z
URL:https://members.lewisville-clemmons.com/events/details/fostering-faith-foundation-ribbon-cutting-6061
END:VEVENT

END:VCALENDAR
