BEGIN:VCALENDAR
VERSION:2.0
PRODID:-//ChamberMaster//Event Calendar 2.0//EN
METHOD:PUBLISH
X-PUBLISHED-TTL:P3D
REFRESH-INTERVAL:P3D
CALSCALE:GREGORIAN
BEGIN:VEVENT
DTSTART:20230531T134500Z
DTEND:20230602T220000Z
X-MICROSOFT-CDO-ALLDAYEVENT:FALSE
SUMMARY:EntreLeadership Simulcast
DESCRIPTION:The Lewisville-Clemmons Chamber of Commerce is so excited to partner with Marzano Capital Group to offer Dave Ramsey's three-day EntreLeadership Summit via simulcast!  \n\n\n\nWhat is EntreLeadership?\nEntreLeadership combines all the best qualities of entrepreneurs and leaders. It's the personal power of an entrepreneur polished and grown by a desire to be a quality leader. It's great leadership with the passion and push of an entrepreneur. It means something more than a renegade lone ranger or a corporate bureaucrat. In a nutshell\, it's the business leader we all want to be.\n\n\n\nWho can attend?\n\nEntreLeadership is open for Chamber members and non-members\, but registration is required.  \n\n\n\nIf you are a Chamber member and want to send another member of your team\, they qualify for the Chamber member price.\n\n\n\nDates / Times\n\nWednesday\, May 31 - Friday\, June 2nd\n\n\n	Wednesday and Thursday:  9:45 AM - 6 PM\n	Friday:  9:45 AM - 5 PM.\n\n\n\n\nWe'll be simulcasting from central time zone\, so we're an hour off of the live event. \n\n\n\nWhat does EntreLeadership include?\n\n\n	Admission to all three days of the program.\n	A copy of program material\n	Snacks / Water / Coffee\n\n\n\n\nIs Lunch included?\n\nLunch is an optional add-on.  It is not included in the fee.\n\n\n\nWho are the speakers?\n\n\n	Dave Ramsey:  Eight-Time National Bestselling Author and CEO of Ramsey Solutions\n	Dr. Jordan Peterson:  Clinical Psychologist and Bestselling Author of 12 Rules for Life\n	Maneet Chauhan:  Food Network Celebrity Chef\, Restaurateur and James Beard Award Recipient\n	Malcolm Gladwell:  Bestselling Author and One of Time Magazine's 100 Most Influential People\n	Patrick Lencioni:  Leadership Expert\, #1 Bestselling Author and President of The Table Group\n	Alison Levine:  Team Captain of the First American Women's Everest Expedition and Bestselling Author\n	Willie Robertson:  Duck Dynasty TV Personality and CEO of Duck Commander\n	Brian Buffini:  New York Times Bestselling Author and Real Estate Hall of Fame Inductee\n	Dr. John Delony:  #1 National Bestselling Author and Mental Health Expert\n	Ken Coleman:  #1 National Bestselling Author and Host of The Ken Coleman Show\n\n\n\n\nWho is speaking on which days?\n\nThe schedule for EntreLeadership is:\n\n \n\nWEDNESDAY\n\n\n	"Built for This\," presented by Dave Ramsey\n	"The Last Competitive Advantage in Business\," presented by Patrick Lencioni\n	Morning Break\n	"The Myth of Motivation\," presented by Ken Coleman\n	LUNCH\n	"Nothing Ventured\, Nothing Gained\," presented by Maneet Chauhan\n	Afternoon Break\n	Presentation by Malcolm Gladwell\n\n\n\n\nTHURSDAY\n\n\n	"The Nobility of Business\," presented by Dave Ramsey\n	Morning Break\n	"Finding Your Emigrant Edge\," presented by Brian Buffini\n	LUNCH\n	"On the Edge: The Art of High-Stakes Leadership\," presented by Alison Levine\n	Afternoon Break\n	"Backwoods Business Insights\," presented by Willie Robertson\n\n\n\nFRIDAY\n\n\n	"Smoke and Fire and Freedom\," presented by Dr. John Delony\n	Morning Break\n	"Live Inspired\," presented by John O'Leary\n	LUNCH\n	"A Conversation with Nashville CEOs"\n	Afternoon Break\n	Presentation by Dr. Jordan Peterson\n	Closing Session by Dave Ramsey\n\n\n\n\nPricing\n\nChamber Members:  $99 for all three days\n\n -- Influence / Envision Members will automatically get a $20 discount when they register.\n\n\n\nNon-Chamber Members:  $129 for all three days\n\n\n\nOptional Lunch package:  $60 for all three days\n\n\n\nJust for perspective -- this event would cost $4900 to attend in person\, which would not include travel costs.  This is an amazing value for our Chamber members!\n\n\n\nCan I only register for one day?\n\nDue to the type of event and the logistics\, we are not giving the option to only register for one or two days.  If you cannot attend all three days\, that's fine.\n\n\n\nIs this recorded for later viewing?\n\nNo\, we will not have a replay option.\n\n\n\nCan I watch the simulcast via Zoom?\n\nNo\, we have arranged for the simulcast to be in-person and are not authorized to share it via Zoom.
X-ALT-DESC;FMTTYPE=text/html:<span style="font-size:14px\;"><span style="font-family:tahoma\;">The Lewisville-Clemmons Chamber of Commerce is so excited to partner with Marzano Capital Group to offer Dave Ramsey&#39\;s three-day EntreLeadership Summit via simulcast!&nbsp\;&nbsp\;<br />\n<br />\n<strong>What is EntreLeadership?</strong></span></span>\n<p class="p1" style="margin: 0px\; font-variant-numeric: normal\; font-variant-east-asian: normal\; font-variant-alternates: normal\; font-kerning: auto\; font-optical-sizing: auto\; font-feature-settings: normal\; font-variation-settings: normal\; font-stretch: normal\; line-height: normal\; font-family: &quot\;Helvetica Neue&quot\;\; color: rgb(0\, 0\, 0)\;"><span style="font-size:14px\;"><span style="font-family:tahoma\;">EntreLeadership combines all the best qualities of entrepreneurs and leaders. It&rsquo\;s the personal power of an entrepreneur polished and grown by a desire to be a quality leader. It&rsquo\;s great leadership with the passion and push of an entrepreneur. It means something more than a renegade lone ranger or a corporate bureaucrat. In a nutshell\, it&rsquo\;s the business leader we all want to be.<br />\n<br />\n<strong>Who can attend?</strong><br />\nEntreLeadership is open for Chamber members and non-members\, but registration is required.&nbsp\;&nbsp\;<br />\n<br />\n<em>If you are a Chamber member and want to send another member of your team\, they qualify for the Chamber member price.</em><br />\n<br />\n<strong>Dates / Times</strong><br />\nWednesday\, May 31 - Friday\, June 2nd</span></span></p>\n\n<ul>\n	<li class="p1" style="margin: 0px\; font-variant-numeric: normal\; font-variant-east-asian: normal\; font-variant-alternates: normal\; font-kerning: auto\; font-optical-sizing: auto\; font-feature-settings: normal\; font-variation-settings: normal\; font-stretch: normal\; line-height: normal\; font-family: &quot\;Helvetica Neue&quot\;\; color: rgb(0\, 0\, 0)\;">Wednesday and Thursday:&nbsp\; 9:45 AM - 6 PM</li>\n	<li class="p1" style="margin: 0px\; font-variant-numeric: normal\; font-variant-east-asian: normal\; font-variant-alternates: normal\; font-kerning: auto\; font-optical-sizing: auto\; font-feature-settings: normal\; font-variation-settings: normal\; font-stretch: normal\; line-height: normal\; font-family: &quot\;Helvetica Neue&quot\;\; color: rgb(0\, 0\, 0)\;"><span style="font-size:14px\;"><span style="font-family:tahoma\;">Friday:&nbsp\; 9:45 AM - 5 PM.</span></span></li>\n</ul>\n\n<p class="p1" style="margin: 0px\; font-variant-numeric: normal\; font-variant-east-asian: normal\; font-variant-alternates: normal\; font-kerning: auto\; font-optical-sizing: auto\; font-feature-settings: normal\; font-variation-settings: normal\; font-stretch: normal\; line-height: normal\; font-family: &quot\;Helvetica Neue&quot\;\; color: rgb(0\, 0\, 0)\;"><br />\n<span style="font-size:14px\;"><span style="font-family:tahoma\;"><em>We&#39\;ll be simulcasting from central time zone\, so we&#39\;re an hour off of the live event.&nbsp\;</em><br />\n<br />\n<strong>What does EntreLeadership include?</strong></span></span></p>\n\n<ul>\n	<li class="p1" style="margin: 0px\; font-variant-numeric: normal\; font-variant-east-asian: normal\; font-variant-alternates: normal\; font-kerning: auto\; font-optical-sizing: auto\; font-feature-settings: normal\; font-variation-settings: normal\; font-stretch: normal\; line-height: normal\; font-family: &quot\;Helvetica Neue&quot\;\; color: rgb(0\, 0\, 0)\;"><span style="font-size:14px\;"><span style="font-family:tahoma\;">Admission to all three days of the program.</span></span></li>\n	<li class="p1" style="margin: 0px\; font-variant-numeric: normal\; font-variant-east-asian: normal\; font-variant-alternates: normal\; font-kerning: auto\; font-optical-sizing: auto\; font-feature-settings: normal\; font-variation-settings: normal\; font-stretch: normal\; line-height: normal\; font-family: &quot\;Helvetica Neue&quot\;\; color: rgb(0\, 0\, 0)\;"><span style="font-size:14px\;"><span style="font-family:tahoma\;">A copy of program material</span></span></li>\n	<li class="p1" style="margin: 0px\; font-variant-numeric: normal\; font-variant-east-asian: normal\; font-variant-alternates: normal\; font-kerning: auto\; font-optical-sizing: auto\; font-feature-settings: normal\; font-variation-settings: normal\; font-stretch: normal\; line-height: normal\; font-family: &quot\;Helvetica Neue&quot\;\; color: rgb(0\, 0\, 0)\;"><span style="font-size:14px\;"><span style="font-family:tahoma\;">Snacks / Water / Coffee</span></span></li>\n</ul>\n\n<p class="p1" style="margin: 0px\; font-variant-numeric: normal\; font-variant-east-asian: normal\; font-variant-alternates: normal\; font-kerning: auto\; font-optical-sizing: auto\; font-feature-settings: normal\; font-variation-settings: normal\; font-stretch: normal\; line-height: normal\; font-family: &quot\;Helvetica Neue&quot\;\; color: rgb(0\, 0\, 0)\;"><br />\n<span style="font-size:14px\;"><span style="font-family:tahoma\;"><strong>Is Lunch included?</strong><br />\nLunch is an optional add-on.&nbsp\; It is not included in the fee.<br />\n<br />\n<strong>Who are the speakers?</strong></span></span></p>\n\n<ul>\n	<li class="p1" style="margin: 0px\; font-variant-numeric: normal\; font-variant-east-asian: normal\; font-variant-alternates: normal\; font-kerning: auto\; font-optical-sizing: auto\; font-feature-settings: normal\; font-variation-settings: normal\; font-stretch: normal\; line-height: normal\; font-family: &quot\;Helvetica Neue&quot\;\; color: rgb(0\, 0\, 0)\;"><span style="font-size:14px\;"><span style="font-family:tahoma\;"><strong>Dave Ramsey:</strong>&nbsp\; Eight-Time National Bestselling Author and CEO of Ramsey Solutions</span></span></li>\n	<li class="p1" style="margin: 0px\; font-variant-numeric: normal\; font-variant-east-asian: normal\; font-variant-alternates: normal\; font-kerning: auto\; font-optical-sizing: auto\; font-feature-settings: normal\; font-variation-settings: normal\; font-stretch: normal\; line-height: normal\; font-family: &quot\;Helvetica Neue&quot\;\; color: rgb(0\, 0\, 0)\;"><span style="font-size:14px\;"><span style="font-family:tahoma\;"><strong>Dr. Jordan Peterson:</strong>&nbsp\; Clinical Psychologist and Bestselling Author of<i>&nbsp\;12 Rules for Life</i></span></span></li>\n	<li class="p1" style="margin: 0px\; font-variant-numeric: normal\; font-variant-east-asian: normal\; font-variant-alternates: normal\; font-kerning: auto\; font-optical-sizing: auto\; font-feature-settings: normal\; font-variation-settings: normal\; font-stretch: normal\; line-height: normal\; font-family: &quot\;Helvetica Neue&quot\;\; color: rgb(0\, 0\, 0)\;"><span style="font-size:14px\;"><span style="font-family:tahoma\;"><strong>Maneet Chauhan:</strong>&nbsp\; Food Network Celebrity Chef\, Restaurateur and James Beard Award Recipient</span></span></li>\n	<li class="p1" style="margin: 0px\; font-variant-numeric: normal\; font-variant-east-asian: normal\; font-variant-alternates: normal\; font-kerning: auto\; font-optical-sizing: auto\; font-feature-settings: normal\; font-variation-settings: normal\; font-stretch: normal\; line-height: normal\; font-family: &quot\;Helvetica Neue&quot\;\; color: rgb(0\, 0\, 0)\;"><span style="font-size:14px\;"><span style="font-family:tahoma\;"><strong>Malcolm Gladwell:</strong>&nbsp\; Bestselling Author and One of&nbsp\;<i>Time&nbsp\;</i>Magazine&rsquo\;s 100 Most Influential People</span></span></li>\n	<li class="p1" style="margin: 0px\; font-variant-numeric: normal\; font-variant-east-asian: normal\; font-variant-alternates: normal\; font-kerning: auto\; font-optical-sizing: auto\; font-feature-settings: normal\; font-variation-settings: normal\; font-stretch: normal\; line-height: normal\; font-family: &quot\;Helvetica Neue&quot\;\; color: rgb(0\, 0\, 0)\;"><span style="font-size:14px\;"><span style="font-family:tahoma\;"><strong>Patrick Lencioni:</strong>&nbsp\; Leadership Expert\, #1 Bestselling Author and President of The Table Group</span></span></li>\n	<li class="p1" style="margin: 0px\; font-variant-numeric: normal\; font-variant-east-asian: normal\; font-variant-alternates: normal\; font-kerning: auto\; font-optical-sizing: auto\; font-feature-settings: normal\; font-variation-settings: normal\; font-stretch: normal\; line-height: normal\; font-family: &quot\;Helvetica Neue&quot\;\; color: rgb(0\, 0\, 0)\;"><span style="font-size:14px\;"><span style="font-family:tahoma\;"><strong>Alison Levine:</strong>&nbsp\; Team Captain of the First American Women&rsquo\;s Everest Expedition and Bestselling Author</span></span></li>\n	<li class="p1" style="margin: 0px\; font-variant-numeric: normal\; font-variant-east-asian: normal\; font-variant-alternates: normal\; font-kerning: auto\; font-optical-sizing: auto\; font-feature-settings: normal\; font-variation-settings: normal\; font-stretch: normal\; line-height: normal\; font-family: &quot\;Helvetica Neue&quot\;\; color: rgb(0\, 0\, 0)\;"><span style="font-size:14px\;"><span style="font-family:tahoma\;"><strong>Willie Robertson:</strong>&nbsp\; <i>Duck Dynasty</i>&nbsp\;TV Personality and CEO of Duck Commander</span></span></li>\n	<li class="p1" style="margin: 0px\; font-variant-numeric: normal\; font-variant-east-asian: normal\; font-variant-alternates: normal\; font-kerning: auto\; font-optical-sizing: auto\; font-feature-settings: normal\; font-variation-settings: normal\; font-stretch: normal\; line-height: normal\; font-family: &quot\;Helvetica Neue&quot\;\; color: rgb(0\, 0\, 0)\;"><span style="font-size:14px\;"><span style="font-family:tahoma\;"><strong>Brian Buffini:</strong>&nbsp\; <i>New York Times</i>&nbsp\;Bestselling Author and Real Estate Hall of Fame Inductee</span></span></li>\n	<li class="p1" style="margin: 0px\; font-variant-numeric: normal\; font-variant-east-asian: normal\; font-variant-alternates: normal\; font-kerning: auto\; font-optical-sizing: auto\; font-feature-settings: normal\; font-variation-settings: normal\; font-stretch: normal\; line-height: normal\; font-family: &quot\;Helvetica Neue&quot\;\; color: rgb(0\, 0\, 0)\;"><span style="font-size:14px\;"><span style="font-family:tahoma\;"><strong>Dr. John Delony:</strong>&nbsp\; #1 National Bestselling Author and Mental Health Expert</span></span></li>\n	<li class="p1" style="margin: 0px\; font-variant-numeric: normal\; font-variant-east-asian: normal\; font-variant-alternates: normal\; font-kerning: auto\; font-optical-sizing: auto\; font-feature-settings: normal\; font-variation-settings: normal\; font-stretch: normal\; line-height: normal\; font-family: &quot\;Helvetica Neue&quot\;\; color: rgb(0\, 0\, 0)\;"><span style="font-size:14px\;"><span style="font-family:tahoma\;"><strong>Ken Coleman:</strong>&nbsp\; #1 National Bestselling Author and Host of&nbsp\;<i>The Ken Coleman Show</i></span></span></li>\n</ul>\n\n<p class="p1" style="margin: 0px\; font-variant-numeric: normal\; font-variant-east-asian: normal\; font-variant-alternates: normal\; font-kerning: auto\; font-optical-sizing: auto\; font-feature-settings: normal\; font-variation-settings: normal\; font-stretch: normal\; line-height: normal\; font-family: &quot\;Helvetica Neue&quot\;\; color: rgb(0\, 0\, 0)\;"><br />\n<span style="font-size:14px\;"><span style="font-family:tahoma\;"><strong>Who is speaking on which days?</strong></span></span></p>\n\n<p class="p1" style="margin: 0px\; font-variant-numeric: normal\; font-variant-east-asian: normal\; font-variant-alternates: normal\; font-kerning: auto\; font-optical-sizing: auto\; font-feature-settings: normal\; font-variation-settings: normal\; font-stretch: normal\; line-height: normal\; color: rgb(0\, 0\, 0)\;"><font face="tahoma"><span style="font-size: 14px\;">The schedule for EntreLeadership is:</span></font><br />\n&nbsp\;</p>\n\n<p><span style="font-size:14px\;"><span style="font-family:tahoma\;"><strong>WEDNESDAY</strong></span></span></p>\n\n<ul>\n	<li><span style="font-size:14px\;"><span style="font-family:tahoma\;">&quot\;Built for This\,&quot\; presented by Dave Ramsey</span></span></li>\n	<li><span style="font-size:14px\;"><span style="font-family:tahoma\;">&quot\;The Last Competitive Advantage in Business\,&quot\; presented by Patrick Lencioni</span></span></li>\n	<li><span style="font-size:14px\;"><span style="font-family:tahoma\;">Morning Break</span></span></li>\n	<li><span style="font-size:14px\;"><span style="font-family:tahoma\;">&quot\;The Myth of Motivation\,&quot\; presented by Ken Coleman</span></span></li>\n	<li><span style="font-size:14px\;"><span style="font-family:tahoma\;">LUNCH</span></span></li>\n	<li><span style="font-size:14px\;"><span style="font-family:tahoma\;">&quot\;Nothing Ventured\, Nothing Gained\,&quot\; presented by Maneet Chauhan</span></span></li>\n	<li><span style="font-size:14px\;"><span style="font-family:tahoma\;">Afternoon Break</span></span></li>\n	<li><span style="font-size:14px\;"><span style="font-family:tahoma\;">Presentation by Malcolm Gladwell</span></span></li>\n</ul>\n\n<p><br />\n<span style="font-size:14px\;"><span style="font-family:tahoma\;"><strong>THURSDAY</strong></span></span></p>\n\n<ul>\n	<li><span style="font-size:14px\;"><span style="font-family:tahoma\;">&quot\;The Nobility of Business\,&quot\; presented by Dave Ramsey</span></span></li>\n	<li><span style="font-size:14px\;"><span style="font-family:tahoma\;">Morning Break</span></span></li>\n	<li><span style="font-size:14px\;"><span style="font-family:tahoma\;">&quot\;Finding Your Emigrant Edge\,&quot\; presented by Brian Buffini</span></span></li>\n	<li><span style="font-size:14px\;"><span style="font-family:tahoma\;">LUNCH</span></span></li>\n	<li><span style="font-size:14px\;"><span style="font-family:tahoma\;">&quot\;On the Edge: The Art of High-Stakes Leadership\,&quot\; presented by Alison Levine</span></span></li>\n	<li><span style="font-size:14px\;"><span style="font-family:tahoma\;">Afternoon Break</span></span></li>\n	<li><span style="font-size:14px\;"><span style="font-family:tahoma\;">&quot\;Backwoods Business Insights\,&quot\; presented by Willie Robertson</span></span></li>\n</ul>\n<br />\n<span style="font-size:14px\;"><span style="font-family:tahoma\;"><strong>FRIDAY</strong></span></span>\n\n<ul>\n	<li><span style="font-size:14px\;"><span style="font-family:tahoma\;">&quot\;Smoke and Fire and Freedom\,&quot\; presented by Dr. John Delony</span></span></li>\n	<li><span style="font-size:14px\;"><span style="font-family:tahoma\;">Morning Break</span></span></li>\n	<li><span style="font-size:14px\;"><span style="font-family:tahoma\;">&quot\;Live Inspired\,&quot\; presented by John O&#39\;Leary</span></span></li>\n	<li><span style="font-size:14px\;"><span style="font-family:tahoma\;">LUNCH</span></span></li>\n	<li><span style="font-size:14px\;"><span style="font-family:tahoma\;">&quot\;A Conversation with Nashville CEOs&quot\;</span></span></li>\n	<li><span style="font-size:14px\;"><span style="font-family:tahoma\;">Afternoon Break</span></span></li>\n	<li><span style="font-size:14px\;"><span style="font-family:tahoma\;">Presentation by Dr. Jordan Peterson</span></span></li>\n	<li><span style="font-size:14px\;"><span style="font-family:tahoma\;">Closing Session by Dave Ramsey</span></span></li>\n</ul>\n\n<p class="p1" style="margin: 0px\; font-variant-numeric: normal\; font-variant-east-asian: normal\; font-variant-alternates: normal\; font-kerning: auto\; font-optical-sizing: auto\; font-feature-settings: normal\; font-variation-settings: normal\; font-stretch: normal\; line-height: normal\; font-family: &quot\;Helvetica Neue&quot\;\; color: rgb(0\, 0\, 0)\;"><br />\n<span style="font-size:14px\;"><span style="font-family:tahoma\;"><strong>Pricing</strong><br />\nChamber Members:&nbsp\; $99 for all three days<br />\n&nbsp\;-- Influence / Envision Members will automatically get a $20 discount when they register.<br />\n<br />\nNon-Chamber Members:&nbsp\; $129 for all three days<br />\n<br />\nOptional Lunch package:&nbsp\; $60 for all three days</span></span><br />\n<br />\n<em style="color: rgb(0\, 0\, 0)\; font-family: tahoma\; font-size: 14px\;">Just for perspective -- this event would cost $4900 to attend in person\, which would not include travel costs.&nbsp\; This is an amazing value for our Chamber members!</em><br />\n<br />\n<span style="font-size:14px\;"><span style="font-family:tahoma\;"><strong>Can I only register for one day?</strong><br />\nDue to the type of event and the logistics\, we are not giving the option to only register for one or two days.&nbsp\; If you cannot attend all three days\, that&#39\;s fine.<br />\n<br />\n<strong>Is this recorded for later viewing?</strong><br />\nNo\, we will not have a replay option.<br />\n<br />\n<strong>Can I watch the simulcast via Zoom?</strong><br />\nNo\, we have arranged for the simulcast to be in-person and are not authorized to share it via Zoom.</span></span></p>\n
LOCATION:Historic Broyhill 3540 Clemmons Road Clemmons\, NC 27012
UID:e.2513.6144
SEQUENCE:3
DTSTAMP:20260425T120157Z
URL:https://members.lewisville-clemmons.com/events/details/entreleadership-simulcast-6144
END:VEVENT

END:VCALENDAR
