BEGIN:VCALENDAR
VERSION:2.0
PRODID:-//ChamberMaster//Event Calendar 2.0//EN
METHOD:PUBLISH
X-PUBLISHED-TTL:P3D
REFRESH-INTERVAL:P3D
CALSCALE:GREGORIAN
BEGIN:VEVENT
DTSTART:20230928T113000Z
DTEND:20230928T133000Z
X-MICROSOFT-CDO-ALLDAYEVENT:FALSE
SUMMARY:Economic Forum - Fall Edition
DESCRIPTION:The local economy is something that matters to EVERYONE.  Please join us for a breakfast summit to discuss the latest economic news!\n\n\n\nSpeaker Information coming soon.\n\n\n\nIf your business is interested in being a partner for the Economic Forum\, please contact Denise Heidel.
X-ALT-DESC;FMTTYPE=text/html:<span style="font-size:14px\;"><span style="font-family:arial\;"><span style="font-family:tahoma\;">The local economy is something that matters to EVERYONE.&nbsp\; Please join us for a breakfast summit to discuss the latest economic news!<br />\n<br />\nSpeaker Information coming soon.<br />\n<br />\nIf your business is interested in being a partner for the Economic Forum\, please contact Denise Heidel.</span></span></span><br />\n<br />\n&nbsp\;\n<div style="color:rgb(0\, 0\, 0)\;font-family:Avenir-Book\;font-size:12px\;text-size-adjust:auto\;">&nbsp\;</div>\n
LOCATION:Historic Broyhill 3540 Clemmons Road Clemmons\, NC 27012
UID:e.2513.6126
SEQUENCE:3
DTSTAMP:20260425T161525Z
URL:https://members.lewisville-clemmons.com/events/details/economic-forum-fall-edition-6126
END:VEVENT

END:VCALENDAR
