BEGIN:VCALENDAR
VERSION:2.0
PRODID:-//ChamberMaster//Event Calendar 2.0//EN
METHOD:PUBLISH
X-PUBLISHED-TTL:P3D
REFRESH-INTERVAL:P3D
CALSCALE:GREGORIAN
BEGIN:VEVENT
DTSTART:20230506T140000Z
DTEND:20230506T160000Z
X-MICROSOFT-CDO-ALLDAYEVENT:FALSE
SUMMARY:Derby Day Soft Golf Tournament Benefitting Fostering Faith Foundation
DESCRIPTION:"What did one golf ball say to the other?"\n\n\n\n"See you around"\n\n\n\n\nCome with a team of 4 or as an individual and meet someone new. This is family friendly\, co worker friendly\, good friend friendly and even neighborly friendly! Proceeds benefit Fostering Faith Foundation with needed necessities to help help serve all our friends in Foster Care. We will have contests\, mulligan's and even a pony dozer. \n\n\n\nMake sure to come dressed in your derby hats and fun attire!\n\n\n\nSee you on the Green!\n\n\n\n**Hole Sponsors Available**
X-ALT-DESC;FMTTYPE=text/html:<div>\n<div>&ldquo\;What did one golf ball say to the other?&rdquo\;</div>\n</div>\n\n<div>\n<div>&ldquo\;See you around&rdquo\;</div>\n</div>\n\n<div><br />\n<span style="font-size:15px">Come with a team of 4 or as an individual and meet someone new. This is family friendly\, co worker friendly\, good friend friendly and even neighborly friendly! Proceeds benefit Fostering Faith Foundation with needed necessities&nbsp\;to help help serve all our friends in Foster Care. We will have contests\, mulligan&#39\;s and even a pony dozer.&nbsp\;<br />\n<br />\nMake sure to come dressed in your derby hats and fun attire!</span><br />\n<br />\nSee you on the Green!<br />\n<br />\n**Hole Sponsors Available**&nbsp\;&nbsp\;</div>\n
LOCATION:Softgolf at Tanglewood Park 4061 Clemmons Rd Clemmons\, NC 27012
UID:e.2513.6139
SEQUENCE:3
DTSTAMP:20260425T103855Z
URL:https://members.lewisville-clemmons.com/events/details/derby-day-soft-golf-tournament-benefitting-fostering-faith-foundation-6139
END:VEVENT

END:VCALENDAR
