BEGIN:VCALENDAR
VERSION:2.0
PRODID:-//ChamberMaster//Event Calendar 2.0//EN
METHOD:PUBLISH
X-PUBLISHED-TTL:P3D
REFRESH-INTERVAL:P3D
CALSCALE:GREGORIAN
BEGIN:VEVENT
DTSTART:20240316T133000Z
DTEND:20240316T150000Z
X-MICROSOFT-CDO-ALLDAYEVENT:FALSE
SUMMARY:Casual Furniture World Grand Re-Opening / Ribbon Cutting
DESCRIPTION:Join us on Saturday\, March 16th at 9:30 AM for a ribbon cutting to celebrate the grand re-opening of Casual Furniture World! Everyone is welcome!
X-ALT-DESC;FMTTYPE=text/html:<div style="color: rgb(64\, 63\, 66)\; font-family: Arial\, Verdana\, Helvetica\, sans-serif\; font-size: 12px\; white-space: pre-wrap\;"><span style="font-size:16px\;"><span style="color:#000000\;">Join us on <strong>Saturday<span style="font-weight: bold\;">\, March 16th </span>at 9:30 AM</strong> for a ribbon cutting to celebrate the grand re-opening of <b>Casual Furniture World</b></span><span style="color:#000000\;">! <span style="white-space: pre-wrap\; background-color: rgb(255\, 255\, 255)\;">Everyone is welcome!</span></span></span></div>\n
LOCATION:Casual Furniture World 1500 Hanes Mall Blvd Winston-Salem\, NC 27103
UID:e.2513.7689
SEQUENCE:3
DTSTAMP:20260421T082602Z
URL:https://members.lewisville-clemmons.com/events/details/casual-furniture-world-grand-re-opening-ribbon-cutting-7689
END:VEVENT

END:VCALENDAR
