BEGIN:VCALENDAR
VERSION:2.0
PRODID:-//ChamberMaster//Event Calendar 2.0//EN
METHOD:PUBLISH
X-PUBLISHED-TTL:P3D
REFRESH-INTERVAL:P3D
CALSCALE:GREGORIAN
BEGIN:VEVENT
DTSTART:20221104T123000Z
DTEND:20221104T170000Z
X-MICROSOFT-CDO-ALLDAYEVENT:FALSE
SUMMARY:CANCELLED: Winning the Game: A Men's Conference
DESCRIPTION:Winning the Game: A Men's Conference was a joint venture planned by the Lewisville-Clemmons Chamber of Commerce\, Davie County Chamber of Commerce\, Forsyth Tech Small Business Center\, and Davidson-Davie Small Business Center. \n\n\n\nWe regret to inform you that the conference has been cancelled.  This was a difficult decision\, but because we did not reach our anticipated sign-ups\, we could not fully cover our costs. \n\n\n\nWe hope to revisit this program at a later date and bring a dynamic program to you in 2023.  Thank you for your interest.\n\n\n\nThank you for understanding and for your support for our respective organizations!
X-ALT-DESC;FMTTYPE=text/html:<span style="font-size:14px\;">Winning the Game: A Men&#39\;s Conference was a joint venture planned by the Lewisville-Clemmons Chamber of Commerce\, Davie County Chamber of Commerce\, Forsyth Tech Small Business Center\, and Davidson-Davie Small Business Center.&nbsp\;<br />\n<br />\n<span style="caret-color: rgb(0\, 0\, 0)\; color: rgb(0\, 0\, 0)\; font-family: Avenir-Book\; text-size-adjust: auto\;">We regret to inform you that the conference has been cancelled.&nbsp\; This was a difficult decision\, but because we did not reach our anticipated sign-ups\, we could not fully cover our costs.&nbsp\;</span><br style="caret-color: rgb(0\, 0\, 0)\; color: rgb(0\, 0\, 0)\; font-family: Avenir-Book\; font-size: 12px\; text-size-adjust: auto\;" />\n<br style="caret-color: rgb(0\, 0\, 0)\; color: rgb(0\, 0\, 0)\; font-family: Avenir-Book\; font-size: 12px\; text-size-adjust: auto\;" />\n<span style="caret-color: rgb(0\, 0\, 0)\; color: rgb(0\, 0\, 0)\; font-family: Avenir-Book\; text-size-adjust: auto\;">We hope to revisit this program at a later date and bring a dynamic program to you in&nbsp\;2023.&nbsp\; Thank you for your interest.</span><br style="caret-color: rgb(0\, 0\, 0)\; color: rgb(0\, 0\, 0)\; font-family: Avenir-Book\; font-size: 12px\; text-size-adjust: auto\;" />\n<br style="caret-color: rgb(0\, 0\, 0)\; color: rgb(0\, 0\, 0)\; font-family: Avenir-Book\; font-size: 12px\; text-size-adjust: auto\;" />\n<span style="caret-color: rgb(0\, 0\, 0)\; color: rgb(0\, 0\, 0)\; font-family: Avenir-Book\; text-size-adjust: auto\;">Thank you for understanding and for your support for our respective organizations!</span></span>
LOCATION:
UID:e.2513.6053
SEQUENCE:3
DTSTAMP:20260424T234058Z
URL:https://members.lewisville-clemmons.com/events/details/cancelled-winning-the-game-a-men-s-conference-6053
END:VEVENT

END:VCALENDAR
