BEGIN:VCALENDAR
VERSION:2.0
PRODID:-//ChamberMaster//Event Calendar 2.0//EN
METHOD:PUBLISH
X-PUBLISHED-TTL:P3D
REFRESH-INTERVAL:P3D
CALSCALE:GREGORIAN
BEGIN:VEVENT
DTSTART:20220527T153000Z
DTEND:20220527T173000Z
X-MICROSOFT-CDO-ALLDAYEVENT:FALSE
SUMMARY:Ca$h Mob - Habitat for Humanity ReStore
DESCRIPTION:Join us for a CA$H MOB at Habitat for Humanity ReStore on Friday\, May 27th\, from 11:30 AM - 1:30 PM.  Spend $20 to support the Habitat for Humanity ReStore and NETWORK!\n\n\nWe are recruiting Mob Bosses. Let us know if you would like to volunteer to raise awareness of the businesses we are protecting. Your job as Mob Boss is to increase chatter and participation for the CA$H MOB event. \n\n \n\n\n\n\nThis entire website\, including any and all posts\, documents\, news articles and linked information\, organizations mentioned\, etc.\, are subject to the following disclaimer:\n\n\n\nThe Lewisville-Clemmons Chamber of Commerce seeks to provide access to recommendations\, regulations\, services\, and expertise to its members. During the COVID-19 pandemic\, this mission remains constant. Prior to acting\, members should consult their own professional advisors for information and counsel specific to the individual and unique situations faced by organizations\, individuals\, and corporations. The opinions\, interpretations\, and recommendations of the Lewisville-Clemmons Chamber of Commerce are informational only and should not be relied upon by the recipient as legal or professional advice. The Lewisville-Clemmons Chamber of Commerce makes no representations as to the accuracy or reliability of the content contained herein. Users of this information accept any and all risks associated with the use of such information and agree that the Lewisville-Clemmons Chamber of Commerce has no liability to users.
X-ALT-DESC;FMTTYPE=text/html:<div><span style="font-size:14px\;"><span style="font-family:arial\;">Join us for a CA$H MOB at Habitat for Humanity ReStore&nbsp\;on Friday\, May 27th\, from 11:30 AM - 1:30 PM.&nbsp\; Spend $20 to support the Habitat for Humanity ReStore and NETWORK!</span></span></div>\n<br />\n<span style="font-size:14px\;"><span style="font-family:arial\;">We are recruiting Mob Bosses. Let us know if you would like to volunteer to raise awareness of the businesses we are protecting. Your job as Mob Boss is to increase chatter and participation for the CA$H MOB event.&nbsp\;</span></span>\n\n<div style="box-sizing: border-box\; outline: 0px\; background-color: rgb(255\, 255\, 255)\; color: rgb(64\, 63\, 66)\; font-family: Arial\, Verdana\, Helvetica\, sans-serif\; font-size: 12px\; white-space: pre-wrap\;">&nbsp\;</div>\n\n<hr style="box-sizing: content-box\; height: 0px\; margin-top: 1rem\; margin-bottom: 1rem\; border-right: 0px\; border-bottom: 0px\; border-left: 0px\; border-image: initial\; border-top-style: solid\; border-top-color: rgba(0\, 0\, 0\, 0.1)\; overflow: visible\; background-color: rgb(255\, 255\, 255)\; color: rgb(64\, 63\, 66)\; font-family: Arial\, Verdana\, Helvetica\, sans-serif\; font-size: 12px\; white-space: pre-wrap\;" />\n<p style="box-sizing: border-box\; margin: 1.5em 0px\; color: rgb(34\, 34\, 34)\; font-family: &quot\;Helvetica Neue&quot\;\, Helvetica\, Arial\, sans-serif\; background: rgb(255\, 255\, 255)\; padding: 0px\; border: 0px\; outline: 0px\; font-size: 14.4014px\; vertical-align: baseline\; line-height: 19.586px\;"><br style="box-sizing: border-box\; color: rgb(64\, 63\, 66)\; font-family: Arial\, Verdana\, Helvetica\, sans-serif\; font-size: 12px\; white-space: pre-wrap\;" />\n<span style="font-size:14px\;"><span style="font-family:arial\;"><em style="box-sizing: border-box\; color: rgb(64\, 63\, 66)\; font-family: Arial\, Verdana\, Helvetica\, sans-serif\; font-size: 12px\; white-space: pre-wrap\;"><span style="box-sizing: border-box\; color: rgb(34\, 34\, 34)\;"><span style="box-sizing: border-box\;"><span style="box-sizing: border-box\;"><span style="box-sizing: border-box\; font-weight: bolder\;">This entire website\, including any and all posts\, documents\, news articles and linked information\, organizations mentioned\, etc.\, are subject to the following disclaimer:</span></span></span></span></em><br style="box-sizing: border-box\;" />\n<br style="box-sizing: border-box\; color: rgb(64\, 63\, 66)\; font-family: Arial\, Verdana\, Helvetica\, sans-serif\; font-size: 12px\; white-space: pre-wrap\;" />\n<span style="box-sizing: border-box\; color: rgb(64\, 63\, 66)\; white-space: pre-wrap\;"><span style="box-sizing: border-box\;"><span style="box-sizing: border-box\;"><em style="box-sizing: border-box\;">The Lewisville-Clemmons Chamber of Commerce seeks to provide access to recommendations\, regulations\, services\, and expertise to its members. During the COVID-19 pandemic\, this mission remains constant. Prior to acting\, members should consult their own professional advisors for information and counsel specific to the individual and unique situations faced by organizations\, individuals\, and corporations. The opinions\, interpretations\, and recommendations of the <span style="box-sizing: border-box\;">Lewisville-Clemmons Chamber of Commerce</span> are informational only and should not be relied upon by the recipient as legal or professional advice. The <span style="box-sizing: border-box\;">Lewisville-Clemmons Chamber of Commerce</span> makes no representations as to the accuracy or reliability of the content contained herein. Users of this information accept any and all risks associated with the use of such information and agree that the <span style="box-sizing: border-box\;">Lewisville-Clemmons Chamber of Commerce</span> has no liability to users.</em></span></span></span></span></span></p>\n
LOCATION:6499 Shallowford Road Lewisville\, NC 27023
UID:e.2513.5875
SEQUENCE:3
DTSTAMP:20260423T070737Z
URL:https://members.lewisville-clemmons.com/events/details/ca-h-mob-habitat-for-humanity-restore-5875
END:VEVENT

END:VCALENDAR
