BEGIN:VCALENDAR
VERSION:2.0
PRODID:-//ChamberMaster//Event Calendar 2.0//EN
METHOD:PUBLISH
X-PUBLISHED-TTL:P3D
REFRESH-INTERVAL:P3D
CALSCALE:GREGORIAN
BEGIN:VEVENT
DTSTART:20230518T160000Z
DTEND:20230518T170000Z
X-MICROSOFT-CDO-ALLDAYEVENT:FALSE
SUMMARY:Branding Your Business (Lunch & Learn)
DESCRIPTION:Branding Your Business: Through The Lens Of Video\n\nIn this workshop\, you will learn how video can be used to effectively brand your business and drive success by utilizing video.\n\n\n\nWe will cover topics such as creating compelling video content\, using video to tell your brand's story\, and the role of video in digital marketing. We will also discuss the importance of consistency in your video branding and how to measure the impact of your video marketing efforts.\n\n\n\nThrough interactive exercises and discussions\, you will have the opportunity to work on developing a video branding for your own business and receive feedback from both David and your peers. By the end of this workshop\, you will have the skills and knowledge to effectively use video to brand your business and engage with your audience. Our presenter\, David\, has extensive experience in the financial services industry and has worked with brands all over the world.\n\n\n\nPresenter:  David Lezcano\n\n\n\nDavid Lezcano is the Director of Marketing at Oechsli where he leads a team of digital marketers specialized in the financial services industry.  His work in videography\, photography\, design\, and sales has led to collaborative opportunities with brands from all over the world.  David is married with two spoiled dogs and enjoys time spent traveling\, playing piano\, and renovating his home.\n\n\n\n\n\nSponsored by Marzano Capital Group\n\n\n\nCATERER:  Chick-fil-A
X-ALT-DESC;FMTTYPE=text/html:<span style="font-family:tahoma\;"><span style="font-size:14px\;"><strong><span style="caret-color: rgb(0\, 0\, 0)\; color: rgb(0\, 0\, 0)\; text-size-adjust: auto\;">Branding Your Business: Through The Lens Of Video</span></strong><br style="caret-color: rgb(0\, 0\, 0)\; color: rgb(0\, 0\, 0)\; font-family: Avenir-Book\; font-size: 12px\; text-size-adjust: auto\;" />\n<span style="caret-color: rgb(0\, 0\, 0)\; color: rgb(0\, 0\, 0)\; text-size-adjust: auto\;">In this workshop\, you will learn how video can be used to effectively brand your business and drive success by utilizing video.</span><br style="caret-color: rgb(0\, 0\, 0)\; color: rgb(0\, 0\, 0)\; font-family: Avenir-Book\; font-size: 12px\; text-size-adjust: auto\;" />\n<br style="caret-color: rgb(0\, 0\, 0)\; color: rgb(0\, 0\, 0)\; font-family: Avenir-Book\; font-size: 12px\; text-size-adjust: auto\;" />\n<span style="caret-color: rgb(0\, 0\, 0)\; color: rgb(0\, 0\, 0)\; text-size-adjust: auto\;">We will cover topics such as creating compelling video content\, using video to tell your brand&#39\;s story\, and the role of video in digital marketing. We will also discuss the importance of consistency in your video branding and how to measure the impact of your video marketing efforts.</span><br style="caret-color: rgb(0\, 0\, 0)\; color: rgb(0\, 0\, 0)\; font-family: Avenir-Book\; font-size: 12px\; text-size-adjust: auto\;" />\n<br style="caret-color: rgb(0\, 0\, 0)\; color: rgb(0\, 0\, 0)\; font-family: Avenir-Book\; font-size: 12px\; text-size-adjust: auto\;" />\n<span style="caret-color: rgb(0\, 0\, 0)\; color: rgb(0\, 0\, 0)\; text-size-adjust: auto\;">Through interactive exercises and discussions\, you will have the opportunity to work on developing a video branding for your own business and receive feedback from both David and your peers. By the end of this workshop\, you will have the skills and knowledge to effectively use video to brand your business and engage with your audience. Our presenter\, David\, has extensive experience in the financial services industry and has worked with brands all over the world.</span><br />\n<br />\n<strong>Presenter:&nbsp\; <span style="color: rgb(0\, 0\, 0)\;">David Lezcano</span></strong></span></span>\n<div style="color:rgb(0\, 0\, 0)\;font-family:Avenir-Book\;font-size:12px\;text-size-adjust:auto\;">\n<div>\n<div class="page" title="Page 1">\n<p class="p1" style="margin: 0px\; font-variant-numeric: normal\; font-variant-east-asian: normal\; font-stretch: normal\; line-height: normal\; font-family: &quot\;Helvetica Neue&quot\;\; color: rgb(0\, 0\, 0)\;"><span style="font-family:tahoma\;"><span style="font-size:14px\;">David Lezcano is the Director of Marketing at Oechsli where he leads a team of digital marketers specialized in the financial services industry.&nbsp\; His work in videography\, photography\, design\, and sales has led to collaborative opportunities with brands from all over the world.&nbsp\; David is married with two spoiled dogs and enjoys time spent traveling\, playing piano\, and renovating his home.</span></span></p>\n</div>\n<br />\n<br />\n<span style="font-family:tahoma\;"><span style="font-size:14px\;"><a href="https://triadbusinessbank.com/">Sponsored by M</a><a href="https://www.marzanocapitalgroup.com/">arzano Capital Group</a><br />\n<br />\nCATERER:&nbsp\; Chick-fil-A</span></span></div>\n</div>\n
LOCATION:Historic Broyhill 3540 Clemmons Road Clemmons\, NC 27012
UID:e.2513.6127
SEQUENCE:3
DTSTAMP:20260425T120314Z
URL:https://members.lewisville-clemmons.com/events/details/branding-your-business-lunch-learn-6127
END:VEVENT

END:VCALENDAR
