BEGIN:VCALENDAR
VERSION:2.0
PRODID:-//ChamberMaster//Event Calendar 2.0//EN
METHOD:PUBLISH
X-PUBLISHED-TTL:P3D
REFRESH-INTERVAL:P3D
CALSCALE:GREGORIAN
BEGIN:VEVENT
DTSTART:20230609T220000Z
DTEND:20230610T000000Z
X-MICROSOFT-CDO-ALLDAYEVENT:FALSE
SUMMARY:Big Run with Fleet Feet
DESCRIPTION:THE FOLLOWING IS NOT A CHAMBER EVENT\; PLEASE CONTACT THE EVENT ORGANIZER WITH ANY QUESTIONS.\n\n\nFleet Feet is helping Chamber members through the Summer of Fitness Challenge with three ways to be active:  Big Run\, Smiley Triathlon\, and Ramblin' Rose.\n\n \nWhether it's your first 5K or your fiftieth\, The Big Run will inspire you to keep showing up and be the best version of yourself. More than a race\, The Big Run is a celebration of running and the community it pulls together. Come run with us! We can't wait to see you there. This 5K is untimed.\n\n\n\nCHAMBER MEMBERS!!!  TAKE $10 OFF REGISTRATION WITH PROMO CODE CHAMBERFITNESS.
X-ALT-DESC;FMTTYPE=text/html:<p class="p1" style="margin: 0px\; font-variant-numeric: normal\; font-variant-east-asian: normal\; font-variant-alternates: normal\; font-kerning: auto\; font-optical-sizing: auto\; font-feature-settings: normal\; font-variation-settings: normal\; font-stretch: normal\; line-height: normal\; font-family: &quot\;Helvetica Neue&quot\;\; color: rgb(0\, 0\, 0)\;"><span style="color:#FF0000\;"><b>THE FOLLOWING IS NOT A CHAMBER EVENT\; PLEASE CONTACT THE EVENT ORGANIZER WITH ANY QUESTIONS.</b></span></p>\n<br />\n<strong>Fleet Feet is helping Chamber members through the Summer of Fitness Challenge with three ways to be active:&nbsp\; Big Run\, <a href="https://members.lewisville-clemmons.com/events/details/triathlon-prep-clinic-with-fleet-feet-smiley-clinic-6349">Smiley Triathlon</a>\, and <a href="https://members.lewisville-clemmons.com/events/details/triathlon-prep-clinic-with-fleet-feet-ramblin-rose-clinic-6350">Rambli</a></strong><strong><a href="https://members.lewisville-clemmons.com/events/details/triathlon-prep-clinic-with-fleet-feet-ramblin-rose-clinic-6350">n&#39\; Rose</a>.</strong><br />\n&nbsp\;\n<p class="p1" style="margin: 0px\; font-variant-numeric: normal\; font-variant-east-asian: normal\; font-variant-alternates: normal\; font-kerning: auto\; font-optical-sizing: auto\; font-feature-settings: normal\; font-variation-settings: normal\; font-stretch: normal\; line-height: normal\; font-family: &quot\;Helvetica Neue&quot\;\; color: rgb(0\, 0\, 0)\;"><span style="font-size:14px\;"><span style="font-family:tahoma\;">Whether it&rsquo\;s your first 5K or your fiftieth\, The Big Run will inspire you to keep showing up and be the best version of yourself. More than a race\, The Big Run is a celebration of running and the community it pulls together. Come run with us! We can&rsquo\;t wait to see you there.&nbsp\;This 5K is untimed.</span></span><br />\n<br />\nCHAMBER MEMBERS!!!&nbsp\; TAKE $10 OFF REGISTRATION WITH PROMO CODE&nbsp\;<span style="color:#0000FF\;"><span style="caret-color: rgb(0\, 0\, 0)\; font-family: Calibri\, sans-serif\; font-size: 16px\; text-size-adjust: auto\;">CHAMBERFITNESS</span></span><span style="caret-color: rgb(0\, 0\, 0)\; color: rgb(0\, 0\, 0)\; font-family: Calibri\, sans-serif\; font-size: 16px\; text-size-adjust: auto\;">.</span></p>\n
LOCATION:Fleet Feet Clemmons 6339 Jessie Ln\, Clemmons\, NC 27012
UID:e.2513.6348
SEQUENCE:3
DTSTAMP:20260425T120237Z
URL:https://members.lewisville-clemmons.com/events/details/big-run-with-fleet-feet-6348
END:VEVENT

END:VCALENDAR
