BEGIN:VCALENDAR
VERSION:2.0
PRODID:-//ChamberMaster//Event Calendar 2.0//EN
METHOD:PUBLISH
X-PUBLISHED-TTL:P3D
REFRESH-INTERVAL:P3D
CALSCALE:GREGORIAN
BEGIN:VEVENT
DTSTART:20220621T210000Z
DTEND:20220622T000000Z
X-MICROSOFT-CDO-ALLDAYEVENT:FALSE
SUMMARY:Bermuda Run Country Club Business After Hours and Expo
DESCRIPTION:Members and the community are invited to join us on a journey around Bermuda Run Country Club\, as we celebrate our local businesses. Each guest will receive complimentary food\, fun\, a drink ticket\, and lots of surprises along the way. Make sure to visit each "continent" to be entered into the raffle to win prizes! Admission is complimentary.\n\n \n\nWant to be a vendor?\n\nTables are $50 per vendor. Contact your local Chamber or BRCC Membership Director\, Julia Reilly at (336) 998-8155 ext.224 or julia.reilly@clubcorp.com. We are also looking for entertainment and food and beverage vendors!  \n\n\n\nOther food and beverage vendors and entertainment vendors are encouraged\, and the fee will be waived if they are giving away free food/drinks/entertainment. Can't participate as a vendor? We are also looking for raffle items. Get exposure for your business by donating a raffle item!\n\n\n\nTheme: Around Bermuda Run in 80 Minutes\n\nDress: Business Casual\n\n\n\nEvent FAQs (Click here to download)\n\nWho is hosting this event?\n\nBermuda Run Country Club will be the hosts\, along with our Chamber Co-Hosts. There is a Business After Hours Table Top Expo for the Chambers and an Open House for our Members and the public.\n\n \n\nWhat will be going on during this event?\n\nGuests will receive a "passport" when they check in\; each station/room will represent a different continent\, and our departments will stamp each passport as the guests visit their "continent". Each "continent" will have a complimentary appetizer or drink. Bermuda Run will also offer a complimentary drink ticket good for a wine or beer. We will also have a DJ\, live entertainment\, and hopefully a few other fun surprises\, as well as our local vendors showcased throughout the club. Once the guests have completed their "passport"\, they will drop it back at the check in station and be entered into a raffle.
X-ALT-DESC;FMTTYPE=text/html:<span style="font-size:16px\;"><span style="font-family:arial\;">Members and the community are invited to join us on a <a href="https://chambermaster.blob.core.windows.net/userfiles/UserFiles/chambers/2513/File/BusinessAfterHoursTableTopExpo.jpg">journey around Bermuda Run Country Club</a>\, as we celebrate our local businesses. Each guest will receive complimentary food\, fun\, a drink ticket\, and lots of surprises along the way. Make sure to visit each &quot\;continent&quot\; to be entered into the raffle to win prizes! Admission is complimentary.<br />\n&nbsp\;<br />\n<strong>Want to be a vendor?</strong><br />\nTables are $50 per vendor. Contact your local Chamber or BRCC Membership Director\, Julia Reilly at (336) 998-8155 ext.224 or <a href="mailto:julia.reilly@clubcorp.com" style="color:rgb(5\, 99\, 193)\;">julia.reilly@clubcorp.com</a>. We are also looking for entertainment and food and beverage vendors!&nbsp\;&nbsp\;<br />\n<br />\n<span style="caret-color: rgb(0\, 0\, 0)\; color: rgb(0\, 0\, 0)\; text-size-adjust: auto\;">Other food and beverage vendors and entertainment vendors are encouraged\, and the fee will be waived if they are giving away free food/drinks/entertainment. Can&rsquo\;t participate as a vendor? We are also looking for raffle items. Get exposure for your business by donating a raffle item!</span><br />\n<br />\n<strong>Theme:</strong> Around Bermuda Run in 80 Minutes<br />\n<strong>Dress:</strong> Business Casual<br />\n<br />\n<strong>Event FAQs </strong>(Click <a href="https://chambermaster.blob.core.windows.net/userfiles/UserFiles/chambers/2513/File/BusinessAfterHoursTableTopExpoVendorFAQ.pdf">here</a> to download)<br />\n<strong>Who is hosting this event?</strong><br />\nBermuda Run Country Club will be the hosts\, along with our Chamber Co-Hosts. There is a Business After Hours Table Top Expo for the Chambers and an Open House for our Members and the public.<br />\n&nbsp\;<br />\n<strong>What will be going on during this event?</strong><br />\n<span style="caret-color: rgb(0\, 0\, 0)\; color: rgb(0\, 0\, 0)\; text-size-adjust: auto\;">Guests will receive a &ldquo\;passport&rdquo\; when they check in\; each station/room will represent a different continent\, and our departments will stamp each passport as the guests visit their &ldquo\;continent&rdquo\;. Each &ldquo\;continent&rdquo\; will have a complimentary appetizer or drink. Bermuda Run will also offer a complimentary drink ticket good for a wine or beer. We will also have a DJ\, live entertainment\, and hopefully a few other fun surprises\, as well as our local vendors showcased throughout the club. Once the guests have completed their &ldquo\;passport&rdquo\;\, they will drop it back at the check in station and be entered into a raffle.</span></span></span>
LOCATION:Bermuda Run Country Club 324 Bermuda Run Drive Bermuda Run\, NC 27006
UID:e.2513.5888
SEQUENCE:3
DTSTAMP:20260423T053143Z
URL:https://members.lewisville-clemmons.com/events/details/bermuda-run-country-club-business-after-hours-and-expo-5888
END:VEVENT

END:VCALENDAR
