BEGIN:VCALENDAR
VERSION:2.0
PRODID:-//ChamberMaster//Event Calendar 2.0//EN
METHOD:PUBLISH
X-PUBLISHED-TTL:P3D
REFRESH-INTERVAL:P3D
CALSCALE:GREGORIAN
BEGIN:VEVENT
DTSTART;VALUE=DATE:20231016
DTEND;VALUE=DATE:20231017
TRANSP:TRANSPARENT
X-MICROSOFT-CDO-ALLDAYEVENT:TRUE
SUMMARY:4th Golf Tournament
DESCRIPTION:The Lewisville-Clemmons Chamber of Commerce will host our 4th Annual Golf Tournament on Monday\, October 16 at Bermuda Run Country Club East Course. Registration begins at 9 AM and we will have to Shotgun Start at 10 AM. \n\n\n\nEVENT PARTNER DEADLINES\n\nFinancials levels range between $150 - $5000\, though customized financial gifts are available (contact Denise@Lewisville-Clemmons.com).\n\n- July 14th for Print Advertising\n\n- September 15th for Signage only\n\n\n\nTEAM / PLAYER DEADLINES\n\n- July 31st for Early Bird Pricing (Save $50 on a Team of Four!)\n\n- October 11th for all other players
X-ALT-DESC;FMTTYPE=text/html:<div class="ccddetails" style="box-sizing: border-box\; font-family: Muli\, sans-serif\; font-size: 18px\;">\n<p class="_04xlpA direction-ltr align-start para-style-body" style="color: rgb(0\, 0\, 0)\; font-family: &quot\;YAFEiAaJY7o 0&quot\;\, _fb_\, auto\; --font-size: 16.0001px\; --line-height: 1.4\; line-height: 22px\;"><span class="nowrap" style="color: rgb(34\, 34\, 34)\; font-family: tahoma\; font-size: 16px\; box-sizing: border-box\; white-space: nowrap\;">The Lewisville-Clemmons Chamber</span><span style="color: rgb(34\, 34\, 34)\; font-family: tahoma\; font-size: 16px\;">&nbsp\;of Commerce will host our 4th Annual Golf Tournament on&nbsp\;</span><strong style="color: rgb(34\, 34\, 34)\; font-family: tahoma\; font-size: 16px\;">Monday\, October 16</strong><span style="color: rgb(34\, 34\, 34)\; font-family: tahoma\; font-size: 16px\;">&nbsp\;at&nbsp\;</span><strong style="color: rgb(34\, 34\, 34)\; font-family: tahoma\; font-size: 16px\;">Bermuda Run Country Club East Course. </strong><span style="color: rgb(34\, 34\, 34)\; font-family: tahoma\; font-size: 16px\;">Registration begins at 9 AM and we will have to Shotgun Start at 10 AM.&nbsp\;<br />\n<br />\n<strong>EVENT PARTNER DEADLINES</strong></span><br />\n<span style="color: rgb(34\, 34\, 34)\; font-family: &quot\;Helvetica Neue&quot\;\, Helvetica\, Arial\, sans-serif\; font-size: 16px\;"><span style="font-family: tahoma\;"><em>Financials levels range between $150 - $5000\, though customized financial gifts are available (contact Denise@Lewisville-Clemmons.com).</em><br />\n- July 14th for Print Advertising</span></span><br style="color: rgb(34\, 34\, 34)\; font-family: &quot\;Helvetica Neue&quot\;\, Helvetica\, Arial\, sans-serif\; font-size: 14.4014px\;" />\n<span style="color: rgb(34\, 34\, 34)\; font-family: tahoma\; font-size: 16px\;">-</span><span style="color: rgb(34\, 34\, 34)\; font-family: &quot\;Helvetica Neue&quot\;\, Helvetica\, Arial\, sans-serif\; font-size: 16px\;"><span style="font-family: tahoma\;">&nbsp\;September 15th&nbsp\;for Signage only</span></span><br />\n<br style="color: rgb(0\, 0\, 0)\; font-family: &quot\;YAFEiAaJY7o 0&quot\;\, _fb_\, auto\; font-size: 18px\;" />\n<span style="color: rgb(34\, 34\, 34)\; font-family: tahoma\; font-size: 16px\;"><strong>TEAM / PLAYER DEADLINES</strong></span><br />\n<span style="color: rgb(34\, 34\, 34)\; font-family: &quot\;Helvetica Neue&quot\;\, Helvetica\, Arial\, sans-serif\; font-size: 16px\;"><span style="font-family: tahoma\;">- July 31st for Early Bird Pricing (Save $50 on a Team of Four!)<br />\n- October 11th for all other players</span></span></p>\n</div>\n
LOCATION:Course Location: Bermuda Run Country Club (East Course) 324 Bermuda Run Drive Bermuda Run NC 27006
UID:e.2513.6074
SEQUENCE:3
DTSTAMP:20260425T173533Z
URL:https://members.lewisville-clemmons.com/events/details/4th-golf-tournament-6074
END:VEVENT

END:VCALENDAR
