BEGIN:VCALENDAR
VERSION:2.0
PRODID:-//ChamberMaster//Event Calendar 2.0//EN
METHOD:PUBLISH
X-PUBLISHED-TTL:P3D
REFRESH-INTERVAL:P3D
CALSCALE:GREGORIAN
BEGIN:VEVENT
DTSTART:20221103T210000Z
DTEND:20221104T010000Z
X-MICROSOFT-CDO-ALLDAYEVENT:FALSE
SUMMARY:3rd Annual Fostering Faith Foundation Dinner and Auction
DESCRIPTION:Welcome to our 3rd Annual Dinner and Auction! We are excited to have you join us\, whether it be Advancing To Go at the Historic Broyhill or virtually to bid on some AMAZING items. \n\nSocial Hour 5:00 pm - 6:00 pm\n\nAuction Starts at 5pm ends at 8pm\n\nWelcome and Intro 6:00pm-6:30pm\n\nDinner is served 6:30 pm \n\nLive Auction 7:15pm - 8pm\n\nClosing and Thank Yous 8:15pm\n\nIf you are attending- Item Pickup 8:30pm-9pm\n\nEvent is Business Causal\n\nSeveral Live Auction items\, raffle\, games\, and entertainment for our Monopoly: Advance to Go Dinner and Auction Thursday\, November 3\, 2022 at 5pm\n\n*Silent Auction (all virtual) bidding opens Sunday\, Oct 30th at 5pm and will close Thursday\, Nov. 3rd at 8pm\n\nThank you for your continued support!\n\n\n\n**Sponsorships Available\, See Website for More Details**
X-ALT-DESC;FMTTYPE=text/html:<h2 style="text-align:center"><span style="color:rgb(128\, 0\, 128)">Welcome to our 3rd Annual Dinner and Auction! We are excited to have you join us\, whether it be Advancing To Go at the Historic Broyhill or virtually to bid on some AMAZING items.&nbsp\;</span></h2>\n\n<p style="text-align:center">Social Hour 5:00 pm - 6:00 pm</p>\n\n<p style="text-align:center">Auction Starts at 5pm ends at 8pm</p>\n\n<p style="text-align:center">Welcome and Intro 6:00pm-6:30pm</p>\n\n<p style="text-align:center">Dinner is served 6:30 pm&nbsp\;</p>\n\n<p style="text-align:center">Live Auction 7:15pm - 8pm</p>\n\n<p style="text-align:center">Closing and Thank Yous 8:15pm</p>\n\n<p style="text-align:center">If you are attending- Item Pickup 8:30pm-9pm</p>\n\n<p style="text-align:center"><strong>Event is Business Causal</strong></p>\n\n<p style="text-align:center">Several Live Auction items\, raffle\, games\, and entertainment&nbsp\;for our Monopoly: Advance to Go Dinner and Auction Thursday\, November 3\, 2022 at 5pm</p>\n\n<p style="text-align:center"><strong><span style="background-color:rgb(0\, 0\, 0)\; color:rgb(255\, 255\, 0)">*Silent Auction (all virtual) bidding opens Sunday\, Oct 30th at 5pm and will close&nbsp\;Thursday\, Nov. 3rd at 8pm</span></strong></p>\n\n<p style="text-align:center"><strong>Thank you for your continued support!<br />\n<br />\n<span style="background-color:#EE82EE">**Sponsorships Available\, See Website for More Details**</span></strong></p>\n
LOCATION:Historic Broyhill 3540 Clemmons Rd Clemmons\, NC 27012
UID:e.2513.6059
SEQUENCE:3
DTSTAMP:20260424T221009Z
URL:https://members.lewisville-clemmons.com/events/details/3rd-annual-fostering-faith-foundation-dinner-and-auction-6059
END:VEVENT

END:VCALENDAR
