BEGIN:VCALENDAR
VERSION:2.0
PRODID:-//ChamberMaster//Event Calendar 2.0//EN
METHOD:PUBLISH
X-PUBLISHED-TTL:P3D
REFRESH-INTERVAL:P3D
CALSCALE:GREGORIAN
BEGIN:VEVENT
DTSTART;VALUE=DATE:20230505
DTEND;VALUE=DATE:20230603
TRANSP:TRANSPARENT
X-MICROSOFT-CDO-ALLDAYEVENT:TRUE
SUMMARY:2023 Welcome Bag Registration
DESCRIPTION:Chamber Welcome Bags are provided to new residents free of charge and include items from our members to help them find the products and services they need in the Lewisville and Clemmons area.\n\n \n\nDistribution points include the Village of Clemmons\, the Chamber office\, local banks\, and real estate agencies.\n\n \n\nGet in the Bag!\n\nReady to be top of mind for potential new clients\, customers\, or guests? Here are the guidelines for the program:\n\n \n\n\n	Reserve your spot in the welcome bag and pay the $50 Fee!*\n	Drop off 150 promo items by 8 AM on Friday\, June 2nd.**\n\n\n \n\nExamples of promo items include magnets\, lip balm\, coasters\, chip clips\, jar openers\, letter openers\, sports bottles\, etc.\n\n \n\n*ENVISION & INFLUENCE MEMBERS!\n\nThis is a part of your membership agreement!\n\nPlease continue to RSVP\; the system will recognize your membership level and you will not be charged.  However\, you will have your spot RSVPd.\n\n \n\n**Due to limited space and manpower in our Chamber office\, we cannot store additional promotional materials.
X-ALT-DESC;FMTTYPE=text/html:<div style="color: rgb(64\, 63\, 66)\; font-family: Arial\, Verdana\, Helvetica\, sans-serif\; font-size: 12px\;"><span style="font-size:16px\;"><span style="font-family:tahoma\;">Chamber Welcome Bags are provided to new residents free of charge and include items from our members to help them find the products and services they need in the Lewisville and Clemmons area.</span></span></div>\n\n<div style="color: rgb(64\, 63\, 66)\; font-family: Arial\, Verdana\, Helvetica\, sans-serif\; font-size: 12px\;">&nbsp\;</div>\n\n<div style="color: rgb(64\, 63\, 66)\; font-family: Arial\, Verdana\, Helvetica\, sans-serif\; font-size: 12px\;"><span style="font-size:16px\;"><span style="font-family:tahoma\;">Distribution points include the&nbsp\;<a href="https://members.lewisville-clemmons.com/list/Member/village-of-clemmons-clemmons-205" rel="noopener noreferrer" style="text-decoration-line: none\; font-size: 18px\; font-family: Roboto\, sans-serif\; color: rgb(85\, 41\, 136)\;" target="_blank">Village of Clemmons</a>\, the Chamber office\, local banks\, and real estate agencies.</span></span></div>\n\n<div style="color: rgb(64\, 63\, 66)\; font-family: Arial\, Verdana\, Helvetica\, sans-serif\; font-size: 12px\;">&nbsp\;</div>\n\n<div style="color: rgb(64\, 63\, 66)\; font-family: Arial\, Verdana\, Helvetica\, sans-serif\; font-size: 12px\;"><span style="font-size:16px\;"><span style="font-family:tahoma\;"><span style="font-weight: bold\;">Get in the Bag!</span></span></span></div>\n\n<div style="color: rgb(64\, 63\, 66)\; font-family: Arial\, Verdana\, Helvetica\, sans-serif\; font-size: 12px\;"><span style="font-size:16px\;"><span style="font-family:tahoma\;">Ready to be top of mind for potential new clients\, customers\, or guests? Here are the guidelines for the program:</span></span></div>\n\n<div style="color: rgb(64\, 63\, 66)\; font-family: Arial\, Verdana\, Helvetica\, sans-serif\; font-size: 12px\;">&nbsp\;</div>\n\n<ol style="padding-right: 0px\; padding-left: 0px\; margin: 0px 0px 0px 40px\; color: rgb(64\, 63\, 66)\; font-family: Arial\, Verdana\, Helvetica\, sans-serif\; font-size: 12px\;">\n	<li style="padding: 0px\; margin: 0px\; line-height: 1.2\; font-size: 18px\;"><span style="font-size:16px\;"><span style="font-family:tahoma\;">Reserve your spot in the welcome bag and pay the $50 Fee!*</span></span></li>\n	<li style="padding: 0px\; margin: 0px\; line-height: 1.2\; font-size: 18px\;"><span style="font-size:16px\;"><span style="font-family:tahoma\;">Drop off 150 promo items by 8 AM on Friday\, June 2nd.**</span></span></li>\n</ol>\n\n<div style="color: rgb(64\, 63\, 66)\; font-family: Arial\, Verdana\, Helvetica\, sans-serif\; font-size: 12px\;">&nbsp\;</div>\n\n<div style="color: rgb(64\, 63\, 66)\; font-family: Arial\, Verdana\, Helvetica\, sans-serif\; font-size: 12px\;"><span style="font-size:16px\;"><span style="font-family:tahoma\;">Examples of promo items include magnets\, lip balm\, coasters\, chip clips\, jar openers\, letter openers\, sports bottles\, etc.</span></span></div>\n\n<div style="color: rgb(64\, 63\, 66)\; font-family: Arial\, Verdana\, Helvetica\, sans-serif\; font-size: 12px\;">&nbsp\;</div>\n\n<div align="center" style="color: rgb(64\, 63\, 66)\; font-family: Arial\, Verdana\, Helvetica\, sans-serif\; font-size: 12px\; text-align: center\;"><span style="font-size:16px\;"><span style="font-family:tahoma\;"><span style="color: rgb(85\, 41\, 136)\; font-weight: bold\;">*ENVISION &amp\; INFLUENCE MEMBERS!</span></span></span></div>\n\n<div align="center" style="color: rgb(64\, 63\, 66)\; font-family: Arial\, Verdana\, Helvetica\, sans-serif\; font-size: 12px\; text-align: center\;"><span style="font-size:16px\;"><span style="font-family:tahoma\;"><span style="font-weight: bold\;">This is a part of your membership agreement!</span></span></span></div>\n\n<div align="center" style="color: rgb(64\, 63\, 66)\; text-align: center\;"><span style="font-size:16px\;"><span style="font-family:tahoma\;">Please continue to RSVP\; the system will recognize your membership level and you will not be charged.&nbsp\; However\, you will have your spot RSVPd.</span></span></div>\n\n<div align="center" style="color: rgb(64\, 63\, 66)\; font-family: Arial\, Verdana\, Helvetica\, sans-serif\; font-size: 12px\; text-align: center\;">&nbsp\;</div>\n\n<div align="center" style="color: rgb(64\, 63\, 66)\; font-size: 12px\; text-align: center\;"><span style="font-size:16px\;"><span style="font-family:tahoma\;"><i>**Due to limited space and manpower in our Chamber office\, we cannot store additional promotional materials.</i></span></span></div>\n
LOCATION:DROP OFF: Lewisville-Clemmons Chamber of Commerce office at the Historic Broyhill: 3540 Clemmons Road\, Suite 112 Clemmons\, NC 27012 If no one is in the office\, please leave your material outside the door.
UID:e.2513.6143
SEQUENCE:3
DTSTAMP:20260425T120301Z
URL:https://members.lewisville-clemmons.com/events/details/2023-welcome-bag-registration-6143
END:VEVENT

END:VCALENDAR
