BEGIN:VCALENDAR
VERSION:2.0
PRODID:-//ChamberMaster//Event Calendar 2.0//EN
METHOD:PUBLISH
X-PUBLISHED-TTL:P3D
REFRESH-INTERVAL:P3D
CALSCALE:GREGORIAN
BEGIN:VEVENT
DTSTART:20220614T152000Z
DTEND:20220614T170000Z
X-MICROSOFT-CDO-ALLDAYEVENT:FALSE
SUMMARY:2022 Monthly Chamber Meeting
DESCRIPTION:It's time to ENGAGE with your fellow Chamber Members at our monthly Chamber Meeting!  Remember\, our meetings are the 2nd Tuesday of every month!  Check in starts at 11:20 and we officially start the meeting at 12 PM.\n\n\n\nSmartin-Up: Listen Like a Professional\n\nIn this 25 minute session participants will learn to listen with more competence and skill. This program is designed to improve your listening skills.  Developing the ability to really listen helps to build stronger professional and personal relationships.  Did you know that we tend to remember just 25 percent of what we hear? To improve our listening skills\, we need to identify the reasons we are not listening. Then we can improve our listening skills by being aware of\, and focusing on\, those reasons when we find ourselves not listening. The bonus: Becoming a true listener will improve your memory!\n\n\n\n\n\nRSVPs must be received by 10 AM the Thursday BEFORE our meeting so we can give an accurate headcount to our caterer!  Seating must be reserved for the meeting\, whether lunch is ordered or not!  \n\n\n\nOur 2022 Theme of the Year is "Engage!"  So make the commitment to join us!  We look forward to seeing you at the monthly Chamber meetings!  \n\n\n\n\n\n\n\nPlease Note: Attendees are encouraged to follow recommended guidelines regarding social distancing and gatherings. Know your Ws.\n\n \n\n\nThis entire website\, including any and all posts\, documents\, news articles and linked information\, organizations mentioned\, etc.\, are subject to the following disclaimer:\n\nThe Lewisville-Clemmons Chamber of Commerce seeks to provide access to recommendations\, regulations\, services\, and expertise to its members. During the COVID-19 pandemic\, this mission remains constant. Prior to acting\, members should consult their own professional advisors for information and counsel specific to the individual and unique situations faced by organizations\, individuals\, and corporations. The opinions\, interpretations\, and recommendations of the Lewisville-Clemmons Chamber of Commerce are informational only and should not be relied upon by the recipient as legal or professional advice. The Lewisville-Clemmons Chamber of Commerce makes no representations as to the accuracy or reliability of the content contained herein. Users of this information accept any and all risks associated with the use of such information and agree that the Lewisville-Clemmons Chamber of Commerce has no liability to users.
X-ALT-DESC;FMTTYPE=text/html:<span style="font-size:14px\;"><span style="font-family:arial\;"><span style="color:#000000\;">It&#39\;s time to ENGAGE with your fellow Chamber Members at our monthly Chamber Meeting!&nbsp\; Remember\, our meetings are the 2nd Tuesday of every month!&nbsp\; Check in starts at 11:20 and we officially start the meeting at 12 PM.<br />\n<br />\n<strong>Smartin-Up: Listen Like a Professional</strong><br />\nIn this 25 minute session participants will learn to listen with more competence and skill. This program is designed to improve your listening skills.&nbsp\; Developing the ability to really listen helps to build stronger professional and personal relationships.&nbsp\; Did you know that we tend to remember just 25 percent of what we hear? To improve our listening skills\, we need to identify the reasons we are not listening. Then we can improve our listening skills by being aware of\, and focusing on\, those reasons when we find ourselves not listening.&nbsp\;The bonus: Becoming a true listener will improve your memory!<br />\n<br />\n<br />\n<strong>RSVPs must be received by 10 AM the Thursday BEFORE our meeting so we can give an accurate headcount to our caterer!&nbsp\; Seating must be reserved for the meeting\, whether lunch is ordered or not!&nbsp\;&nbsp\;</strong><br />\n<br />\nOur 2022 Theme of the Year is &quot\;Engage!&quot\;&nbsp\; So make the commitment to join us!&nbsp\; We look forward to seeing you at the monthly Chamber meetings!&nbsp\;&nbsp\;<br />\n<br />\n<br />\n<br />\n<span style="white-space: pre-wrap\;"><strong>Please Note: </strong>Attendees are encouraged to follow recommended guidelines regarding social distancing and gatherings. </span></span><a data-link-type="web" href="https://files.nc.gov/covid/documents/C19-KnowYourWs-ENG.pdf" rel="noopener noreferrer" style="color: rgb(0\, 164\, 229)\; font-family: Arial\, Verdana\, Helvetica\, sans-serif\; white-space: pre-wrap\; text-decoration-line: none\; font-size: 14px\;" target="_blank"><span style="color:#000000\;">Know your Ws</span></a><span style="color:#000000\;"><span style="white-space: pre-wrap\;">.</span></span></span></span><br style="color: rgb(64\, 63\, 66)\; font-family: Arial\, Verdana\, Helvetica\, sans-serif\; font-size: 12px\; white-space: pre-wrap\;" />\n&nbsp\;\n<hr style="color: rgb(64\, 63\, 66)\; font-family: Arial\, Verdana\, Helvetica\, sans-serif\; font-size: 12px\; white-space: pre-wrap\;" /><br style="color: rgb(64\, 63\, 66)\; font-family: Arial\, Verdana\, Helvetica\, sans-serif\; font-size: 12px\; white-space: pre-wrap\;" />\n<span style="color:#000000\;"><span style="font-size:14px\;"><span style="font-family:arial\;"><em style="color: rgb(64\, 63\, 66)\; font-family: Arial\, Verdana\, Helvetica\, sans-serif\; font-size: 12px\; white-space: pre-wrap\;"><strong>This entire website\, including any and all posts\, documents\, news articles and linked information\, organizations mentioned\, etc.\, are subject to the following disclaimer:</strong></em><br style="color: rgb(64\, 63\, 66)\; font-family: Arial\, Verdana\, Helvetica\, sans-serif\; font-size: 12px\; white-space: pre-wrap\;" />\n<span style="white-space: pre-wrap\;"><em>The Lewisville-Clemmons Chamber of Commerce seeks to provide access to recommendations\, regulations\, services\, and expertise to its members. During the COVID-19 pandemic\, this mission remains constant. Prior to acting\, members should consult their own professional advisors for information and counsel specific to the individual and unique situations faced by organizations\, individuals\, and corporations. The opinions\, interpretations\, and recommendations of the Lewisville-Clemmons Chamber of Commerce are informational only and should not be relied upon by the recipient as legal or professional advice. The Lewisville-Clemmons Chamber of Commerce makes no representations as to the accuracy or reliability of the content contained herein. Users of this information accept any and all risks associated with the use of such information and agree that the Lewisville-Clemmons Chamber of Commerce has no liability to users.</em></span></span></span></span>
LOCATION:Broyhill Event Center 3540 Clemmons Road Clemmons\, NC 27012
UID:e.2513.5854
SEQUENCE:3
DTSTAMP:20260423T071020Z
URL:https://members.lewisville-clemmons.com/events/details/2022-monthly-chamber-meeting-06-14-2022-5854
END:VEVENT

END:VCALENDAR
