BEGIN:VCALENDAR
VERSION:2.0
PRODID:-//ChamberMaster//Event Calendar 2.0//EN
METHOD:PUBLISH
X-PUBLISHED-TTL:P3D
REFRESH-INTERVAL:P3D
CALSCALE:GREGORIAN
BEGIN:VEVENT
DTSTART:20220421T140000Z
DTEND:20220421T150000Z
X-MICROSOFT-CDO-ALLDAYEVENT:FALSE
SUMMARY:2022 CCD Booth Camp
DESCRIPTION:Make the most of your Clemmons Community Day experience!  Join us for a virtual session for Booth Camp!  We'll share tips and suggestions on how to ensure you enjoy the best return on your time at Clemmons Community Day!  RSVP when you reserve your booth!  http://TinyURL.com/2022CCD
X-ALT-DESC;FMTTYPE=text/html:<font face="arial"><span style="font-size: 14px\;"><b>Make the most of your Clemmons Community Day experience!&nbsp\;&nbsp\;</b>Join us for a virtual session for Booth Camp!&nbsp\; We&#39\;ll share tips and suggestions on how to ensure you enjoy the best return on your time at Clemmons Community Day!&nbsp\; RSVP when you reserve your booth!&nbsp\;&nbsp\;</span></font>http://TinyURL.com/2022CCD
LOCATION:Join Zoom Meeting https://us02web.zoom.us/j/3369705100?pwd=N2FWOThuUEtOYUI2WjBWOVgwOVpBQT09 Meeting ID: 336 970 5100 Passcode: LCChamber One tap mobile +19292056099\,\,3369705100#\,\,\,\,*756470769# US (New York) +13017158592\,\,3369705100#\,\,\,\,*756470769# US (Washington DC) Dial by your location +1 929 205 6099 US (New York) +1 301 715 8592 US (Washington DC) +1 312 626 6799 US (Chicago) +1 669 900 6833 US (San Jose) +1 253 215 8782 US (Tacoma) +1 346 248 7799 US (Houston) Meeting ID: 336 970 5100 Passcode: 756470769 Find your local number: https://us02web.zoom.us/u/kVv2klQjS
UID:e.2513.5881
SEQUENCE:3
DTSTAMP:20260423T083642Z
URL:https://members.lewisville-clemmons.com/events/details/2022-ccd-booth-camp-5881
END:VEVENT

END:VCALENDAR
