BEGIN:VCALENDAR
VERSION:2.0
PRODID:-//ChamberMaster//Event Calendar 2.0//EN
METHOD:PUBLISH
X-PUBLISHED-TTL:P3D
REFRESH-INTERVAL:P3D
CALSCALE:GREGORIAN
BEGIN:VEVENT
DTSTART:20260427T180000Z
DTEND:20260427T193000Z
X-MICROSOFT-CDO-ALLDAYEVENT:FALSE
SUMMARY:Strategic Planning Simplified: Building a Roadmap for Your Business Success
DESCRIPTION:THIS IS NOT A CHAMBER EVENT: PLEASE CONTACT THE EVENT ORGANIZER WITH QUESITONS\n\nThe UWFC Small Business Circle is excited to host our first Small Business Circle professional development seminar- Strategic Planning Simplified: Building a Roadmap for Your Business Success!\n\n\n\nThis seminar is led by Dr. Shinika McKiever\, PhD\, CFRE\, current Chief Development Officer at United Way of Forsyth County and Founder/ Chief Creative Office at The McKiever Group Creative Company.\n\n\n\nWe want YOU\, our Forsyth County small business community\, to join us April 27\, 2026\, at 2pm for an afternoon of learning\, growing\, and connecting. TICKET REGISTRATION IS NOW OPEN!
X-ALT-DESC;FMTTYPE=text/html:<div>\n<div><span style="color:#FF0000\;"><strong>THIS IS NOT A CHAMBER EVENT: PLEASE CONTACT THE EVENT ORGANIZER WITH QUESITONS</strong></span><br />\nThe UWFC Small Business Circle is excited to host our first Small Business Circle professional development seminar- Strategic Planning Simplified: Building a Roadmap for Your Business Success!</div>\n</div>\n\n<div>\n<div>This seminar is led by Dr. Shinika McKiever\, PhD\, CFRE\, current Chief Development Officer at United Way of Forsyth County and Founder/ Chief Creative Office at The McKiever Group Creative Company.</div>\n</div>\n\n<div>\n<div>We want YOU\, our Forsyth County small business community\, to join us April 27\, 2026\, at 2pm for an afternoon of learning\, growing\, and connecting.<strong>&nbsp\;TICKET REGISTRATION IS NOW OPEN!</strong></div>\n</div>\n
LOCATION:301 N Main St Suite 1700 Winston Salem NC 27101
UID:e.2513.9389
SEQUENCE:3
DTSTAMP:20260421T075742Z
URL:http://members.lewisville-clemmons.com/events/details/strategic-planning-simplified-building-a-roadmap-for-your-business-success-9389
END:VEVENT

END:VCALENDAR
