BEGIN:VCALENDAR
VERSION:2.0
PRODID:-//ChamberMaster//Event Calendar 2.0//EN
METHOD:PUBLISH
X-PUBLISHED-TTL:P3D
REFRESH-INTERVAL:P3D
CALSCALE:GREGORIAN
BEGIN:VEVENT
DTSTART:20260319T200000Z
DTEND:20260319T220000Z
X-MICROSOFT-CDO-ALLDAYEVENT:FALSE
SUMMARY:Business After Hours | Mary Kay Bingo with Tina Morgan at Be Kind Coffee Co
DESCRIPTION:Join us for Mary Kay Bingo with Tina Morgan at Be Kind Coffee on March 19\, from 4-6PM!
X-ALT-DESC;FMTTYPE=text/html:Join us for Mary Kay Bingo with Tina Morgan at Be Kind Coffee on March 19\, from 4-6PM!&nbsp\;<br />\n&nbsp\;
LOCATION:Be Kind Coffee Co 3560 Clemmons Road Suite B Clemmons\, NC
UID:e.2513.9349
SEQUENCE:3
DTSTAMP:20260421T121912Z
URL:http://members.lewisville-clemmons.com/events/details/business-after-hours-mary-kay-bingo-with-tina-morgan-at-be-kind-coffee-co-9349
END:VEVENT

END:VCALENDAR
