BEGIN:VCALENDAR
VERSION:2.0
PRODID:-//ChamberMaster//Event Calendar 2.0//EN
METHOD:PUBLISH
X-PUBLISHED-TTL:P3D
REFRESH-INTERVAL:P3D
CALSCALE:GREGORIAN
BEGIN:VEVENT
DTSTART:20260324T180000Z
DTEND:20260324T200000Z
X-MICROSOFT-CDO-ALLDAYEVENT:FALSE
SUMMARY:Break Time Billiards and Sports Bar Ribbon Cutting & 1 Year Celebration
DESCRIPTION:Join us at Break Time Billiards and Sports Bar as we celebrate their first year of business with a ribbon cutting!
X-ALT-DESC;FMTTYPE=text/html:Join us at Break Time Billiards and Sports Bar as we celebrate their first year of business with a ribbon cutting!&nbsp\;
LOCATION:196 Westwood Village Drive Clemmons\, NC 27012
UID:e.2513.9325
SEQUENCE:3
DTSTAMP:20260421T122623Z
URL:http://members.lewisville-clemmons.com/events/details/break-time-billiards-and-sports-bar-ribbon-cutting-1-year-celebration-9325
END:VEVENT

END:VCALENDAR
